BEGIN:VCALENDAR
VERSION:2.0
PRODID:-//We love Kiel - ECPv6.15.14//NONSGML v1.0//EN
CALSCALE:GREGORIAN
METHOD:PUBLISH
X-WR-CALNAME:We love Kiel
X-ORIGINAL-URL:https://welovekiel.com/en/
X-WR-CALDESC:Events for We love Kiel
REFRESH-INTERVAL;VALUE=DURATION:PT1H
X-Robots-Tag:noindex
X-PUBLISHED-TTL:PT1H
BEGIN:VTIMEZONE
TZID:Europe/Berlin
BEGIN:DAYLIGHT
TZOFFSETFROM:+0100
TZOFFSETTO:+0200
TZNAME:CEST
DTSTART:20220327T010000
END:DAYLIGHT
BEGIN:STANDARD
TZOFFSETFROM:+0200
TZOFFSETTO:+0100
TZNAME:CET
DTSTART:20221030T010000
END:STANDARD
BEGIN:DAYLIGHT
TZOFFSETFROM:+0100
TZOFFSETTO:+0200
TZNAME:CEST
DTSTART:20230326T010000
END:DAYLIGHT
BEGIN:STANDARD
TZOFFSETFROM:+0200
TZOFFSETTO:+0100
TZNAME:CET
DTSTART:20231029T010000
END:STANDARD
BEGIN:DAYLIGHT
TZOFFSETFROM:+0100
TZOFFSETTO:+0200
TZNAME:CEST
DTSTART:20240331T010000
END:DAYLIGHT
BEGIN:STANDARD
TZOFFSETFROM:+0200
TZOFFSETTO:+0100
TZNAME:CET
DTSTART:20241027T010000
END:STANDARD
END:VTIMEZONE
BEGIN:VEVENT
DTSTART;TZID=Europe/Berlin:20231003T080000
DTEND;TZID=Europe/Berlin:20231003T160000
DTSTAMP:20260424T075247
CREATED:20221222T012641Z
LAST-MODIFIED:20221222T100506Z
UID:10000213-1696320000-1696348800@welovekiel.com
SUMMARY:Flea market Schönberg pedestrian zone 03.10.2023
DESCRIPTION:Flea market Schönberg pedestrian zone on Tuesday\, October 3\, 2023 from 8 a.m. in the Schönberger pedestrian zone in the Knüll. \nFrom March to October 2023\, Olaf Platner Veranstaltungs- und Eventmanagement is organizing a total of six flea markets in the Baltic Sea resort of Schönberg in the pedestrian zone in the Knüll. There are no covered flea market stalls available at the flea market in Schönberg. Here at the Schönberger flea market you can certainly find one or the other bargain in the pedestrian zone. \nThe flea market in Schönberg will take place in 2023 on the following Sundays from 8 a.m. to 4 p.m.: \n\nSunday March 12\, 2023\nSunday April 16\, 2023\nSunday May 21\, 2023\nSunday 25 June 2023\nSunday 13 August 2023\nTuesday 03 October 2023\n\nThere is no entry fee for visitors to the flea markets in Gettorf. For sellers\, the stand fee is a flat rate of EUR 7 per running meter started for a stand without a car and EUR 8 per meter with a car\, minimum purchase 5 meters. For vans\, the minimum purchase is 6 meters. Trailers count as a car. Vehicles or trailers must be booked in advance. Setup from 6 a.m. \nFlea market Schönberg pedestrian zoneMore about flea markets and markets in Kiel and the surrounding areaFirst flea market of the year at the Kiel Hörn Posted on: 24. April 2022First flea market in downtown Kiel in 2022 Posted on: 3. April 2022\nVideos flea markets in Kiel\n	\n		\n\n			\n			\n\n							\n					\n						Upcoming Events					\n				\n			\n			\n				\n			\n			\n	\n		\n		\n		\n		\n	\n\n\n	Notice\n							\n					There are no upcoming events.				\n					\n	\n\n					\n	\n\n\n\n\n\n\n		\n		Kiel-Blog\n		\n											\n					New SFK electric ferry MS Dietrichsdorf arrived in Kiel\n									\n											\n					Kiel enters into a twin town relationship with Kherson\n									\n					\n\n		Kiel Lexicon\n            Ostseekai\n            Olympic Center Schilksee\n            Laboe Beach
URL:https://welovekiel.com/en/event/flea-market-schoenberg-pedestrian-zone-03-10-2023/
LOCATION:Schönberg Fußgängerzone\, Knüll\, Schönberg\, 24217\, Deutschland
CATEGORIES:Flea market,Kiel area,Shopping
ATTACH;FMTTYPE=image/jpeg:https://welovekiel.com/wp-content/uploads/flohmarkt-buecher-dvd-video.jpg
END:VEVENT
BEGIN:VEVENT
DTSTART;TZID=Europe/Berlin:20231008T080000
DTEND;TZID=Europe/Berlin:20231008T160000
DTSTAMP:20260424T075247
CREATED:20230308T155404Z
LAST-MODIFIED:20230308T160141Z
UID:10000340-1696752000-1696780800@welovekiel.com
SUMMARY:Flea market REWE Kiel (Winterbeker Weg) 08.10.2023
DESCRIPTION:REWE Kiel flea market on Sunday\, October 8\, 2023 from 8 a.m. in the REWE car park at Winterbeker Weg 44 in the Hassee district of Kiel. \nOn October 8th\, 2023\, Hochberg Flohmärkte will host the popular flea market at REWE on Winterbeker Weg in Kiel (formerly Plaza). At the flea market at REWE in Hassee there are many flea market stalls in the open air as well as some covered places. Here you can certainly find one or the other bargain at the REWE flea market. \nThe flea market at REWE Kiel in Winterbeker Weg will take place on the following dates in 2023: \n\nSunday\, April 16\, 2023\nSunday\, August 13\, 2023\nSunday\, October 08\, 2023\n\nThere is no entrance fee for visitors to the flea markets in the REWE car park. For sellers\, the stand fee is a flat rate of EUR 11 per running meter or part thereof. \nFlea market REWE Winterbeker WegMore about flea market and markets in KielFirst flea market of the year at the Kiel HörnFirst flea market in downtown Kiel in 2022\nVideos flea markets in Kiel\n	\n		\n\n			\n			\n\n							\n					\n						Upcoming Events					\n				\n			\n			\n				\n			\n			\n	\n		\n		\n		\n		\n	\n\n\n	Notice\n							\n					There are no upcoming events.				\n					\n	\n\n					\n	\n\n\n\n\n\n\n		\n		Kiel-Blog\n		\n											\n					New SFK electric ferry MS Dietrichsdorf arrived in Kiel\n									\n											\n					Kiel enters into a twin town relationship with Kherson\n									\n					\n\n		Kiel Lexicon\n            Submarine U 995\n            Cliff Stohl\n            Shipyard Worker Sculpture
URL:https://welovekiel.com/en/event/flea-market-rewe-kiel-winterbeker-weg-08-10-2023/
LOCATION:REWE Kiel\, Winterbeker Weg 44\, Kiel\, 24114\, Deutschland
CATEGORIES:Flea market,Hassee,Kiel,Meimersdorf,Shopping
ATTACH;FMTTYPE=image/jpeg:https://welovekiel.com/wp-content/uploads/flohmarkt-stand-schmuck.jpg
END:VEVENT
END:VCALENDAR