BEGIN:VCALENDAR
VERSION:2.0
PRODID:-//We love Kiel - ECPv6.15.14//NONSGML v1.0//EN
CALSCALE:GREGORIAN
METHOD:PUBLISH
X-ORIGINAL-URL:https://welovekiel.com/en/
X-WR-CALDESC:Events for We love Kiel
REFRESH-INTERVAL;VALUE=DURATION:PT1H
X-Robots-Tag:noindex
X-PUBLISHED-TTL:PT1H
BEGIN:VTIMEZONE
TZID:Europe/Berlin
BEGIN:DAYLIGHT
TZOFFSETFROM:+0100
TZOFFSETTO:+0200
TZNAME:CEST
DTSTART:20220327T010000
END:DAYLIGHT
BEGIN:STANDARD
TZOFFSETFROM:+0200
TZOFFSETTO:+0100
TZNAME:CET
DTSTART:20221030T010000
END:STANDARD
BEGIN:DAYLIGHT
TZOFFSETFROM:+0100
TZOFFSETTO:+0200
TZNAME:CEST
DTSTART:20230326T010000
END:DAYLIGHT
BEGIN:STANDARD
TZOFFSETFROM:+0200
TZOFFSETTO:+0100
TZNAME:CET
DTSTART:20231029T010000
END:STANDARD
BEGIN:DAYLIGHT
TZOFFSETFROM:+0100
TZOFFSETTO:+0200
TZNAME:CEST
DTSTART:20240331T010000
END:DAYLIGHT
BEGIN:STANDARD
TZOFFSETFROM:+0200
TZOFFSETTO:+0100
TZNAME:CET
DTSTART:20241027T010000
END:STANDARD
END:VTIMEZONE
BEGIN:VEVENT
DTSTART;TZID=Europe/Berlin:20231029T060000
DTEND;TZID=Europe/Berlin:20231029T160000
DTSTAMP:20260421T062957
CREATED:20230120T221347Z
LAST-MODIFIED:20230120T222210Z
UID:10000288-1698559200-1698595200@welovekiel.com
SUMMARY:Flea market Schwentinental 29.10.2023
DESCRIPTION:Flea market in Schwentinental on Sunday\, October 29\, 2023 from 6 a.m. in Mergenthalerstraße 14 at Autoservice Fichtner and Auto Harmsen in the Ostseepark Schwentinental. \nFrom April to October 2023\, several flea markets will take place on Mergenthalerstrasse in the Ostseepark Schwentinental. At the flea market at Autoservice Fichtner in Schwentinental there are mostly stands in the open air. Here you can certainly find one or the other bargain at the flea market. \nThe flea market in Schwentinental will take place on the following Sundays in 2023: \n\nSunday\, April 9th\, 2023\nSunday\, June 25th 2023\nSunday\, August 20th 2023\nSunday\, September 24th 2023\nSunday\, October 29th 2023\n\nThere is no entrance fee for visitors to the flea markets in the Ostseepark Schwentinental. Free parking spaces for flea market visitors are available in sufficient numbers in the Ostseepark Schwentinental. \nFlea market SchwentinentalMore about flea markets and markets in and around KielFirst flea market of the year at the Kiel HörnFirst flea market in downtown Kiel in 2022\nVideos flea markets in Kiel\n	\n		\n\n			\n			\n\n							\n					\n						Upcoming Events					\n				\n			\n			\n				\n			\n			\n	\n		\n		\n		\n		\n	\n\n\n	Notice\n							\n					There are no upcoming events.				\n					\n	\n\n					\n	\n\n\n\n\n\n\n		\n		Kiel-Blog\n		\n											\n					New SFK electric ferry MS Dietrichsdorf arrived in Kiel\n									\n											\n					Kiel enters into a twin town relationship with Kherson\n									\n					\n\n		Kiel Lexicon\n            Christmas market Kiel Alter Markt\n            Districts\n            Norwegenkai
URL:https://welovekiel.com/en/event/flea-market-schwentinental-29-10-2023/
LOCATION:Autoservice Fichtner\, Mergenthalerstraße 14\, Schwentinental\, 24223\, Deutschland
CATEGORIES:Flea market,Kiel area,Shopping
ATTACH;FMTTYPE=image/jpeg:https://welovekiel.com/wp-content/uploads/flohmarkt-schwentinental-raisdorf-autoservice-fichtner.jpg
END:VEVENT
BEGIN:VEVENT
DTSTART;TZID=Europe/Berlin:20231029T080000
DTEND;TZID=Europe/Berlin:20231029T160000
DTSTAMP:20260421T062957
CREATED:20221221T232027Z
LAST-MODIFIED:20221222T000725Z
UID:10000092-1698566400-1698595200@welovekiel.com
SUMMARY:Flea market Gettorf pedestrian zone 29.10.2023
DESCRIPTION:Flea market Gettorf pedestrian zone on Sunday\, October 29\, 2023 from 8 a.m. in the Gettorf pedestrian zone on Teichstraße. \nFrom March to October 2023\, Olaf Platner Veranstaltungs- und Eventmanagement is organizing a total of eight flea markets in Gettorf in the pedestrian zone on Teichstraße. There are no covered flea market stalls at the flea market in Gettorf. Here at the Gettorf flea market you can certainly find one or the other bargain in the pedestrian zone. \nThe flea market in Gettorf will take place in 2023 on the following Sundays from 8 a.m. to 4 p.m.: \n\nSunday March 26\, 2023\nSunday April 30\, 2023\nSunday May 21\, 2023\nSunday 25 June 2023\nSunday 30 July 2023\nSunday 27 August 2023\nSunday 24 September 2023\nSunday 29 October 2023\n\nThere is no entry fee for visitors to the flea markets in Gettorf. For sellers\, the stand fee is a flat rate of EUR 6 per running meter started for a stand without a car and EUR 8 per meter with a car\, minimum purchase 5 meters. For vans\, the minimum purchase is 6 meters. Trailers count as a car. Vehicles or trailers must be booked in advance. Setup from 6 a.m. \nFlea market Gettorf pedestrian zoneMore about flea markets and markets in Kiel and the surrounding areaFirst flea market of the year at the Kiel Hörn Posted on: 24. April 2022First flea market in downtown Kiel in 2022 Posted on: 3. April 2022\nVideos flea markets in Kiel\n	\n		\n\n			\n			\n\n							\n					\n						Upcoming Events					\n				\n			\n			\n				\n			\n			\n	\n		\n		\n		\n		\n	\n\n\n	Notice\n							\n					There are no upcoming events.				\n					\n	\n\n					\n	\n\n\n\n\n\n\n		\n		Kiel-Blog\n		\n											\n					New SFK electric ferry MS Dietrichsdorf arrived in Kiel\n									\n											\n					Kiel enters into a twin town relationship with Kherson\n									\n					\n\n		Kiel Lexicon\n            Schleusenpark\n            Barcamp Kiel\n            Town Hall Square
URL:https://welovekiel.com/en/event/flea-market-gettorf-pedestrian-zone-29-10-2023/
LOCATION:Gettorf Fußgängerzone\, Teichstraße\, Gettorf\, 24214\, Deutschland
CATEGORIES:Flea market,Kiel area,Shopping
ATTACH;FMTTYPE=image/jpeg:https://welovekiel.com/wp-content/uploads/flohmarkt-stand-deko-glaeser.jpg
END:VEVENT
BEGIN:VEVENT
DTSTART;TZID=Europe/Berlin:20231029T080000
DTEND;TZID=Europe/Berlin:20231029T160000
DTSTAMP:20260421T062957
CREATED:20230308T181126Z
LAST-MODIFIED:20230308T182340Z
UID:10000347-1698566400-1698595200@welovekiel.com
SUMMARY:Flea market Citti-Park Kiel 29.10.2023
DESCRIPTION:Citti-Park Kiel flea market on Sunday\, October 29\, 2023 from 8 a.m. in the Citti-Park car park and in the underground car park in the Hassee district of Kiel at Mühlendamm 1. \nThe Hochberg company organizes flea markets at Citti-Park Kiel several times a year. At the flea market at Citti-Park in Kiel-Hassee there are covered flea market stands\, stands in the open air and in the underground car park (from October to February). Here you can certainly find one or the other bargain at the Citti-Park flea market. There is ample free parking for visitors. Of course\, you can also travel by bus\, from the main station with the KVG bus line 51 to the Stadtrade stop or with line 52 to the Lantziusstraße stop. \nThe Citti-Park Kiel flea market will take place on the following Sundays in 2023: \n\nJune 11\, 2023\nSeptember 10\, 2023\nOctober 29\, 2023\nDecember 03\, 2023\n\nThere is no entry fee for visitors to the Citti-Park Kiel flea markets. For sellers\, the stand fee is a flat rate of EUR 12 per running meter or part thereof for a space without a car. For a space with a car\, the stand fee is EUR 14 per meter or part thereof. \nThe stands can be booked online on the website of the organizer C. Hochberg Veranstaltung & Organization GmbH & Co. KG at www.hochberg-flohmarkt.de. \nGet a free meter with the Citti Card customer card \nHolders of the Citti Card customer card benefit from a free meter at the Citti-Park Kiel flea markets. There is a minimum purchase of three meters without a car and four meters with a car. \nFlea Market Citti-Park Kiel\n				\n					\n					\n					\n				Loading the next set of gallery items...More about flea market and markets in KielAutograph session with the teams from Holstein Kiel and THW Kiel in Citti ParkFirst flea market of the year at the Kiel HörnFirst flea market in downtown Kiel in 2022\nVideos flea markets in Kiel\n	\n		\n\n			\n			\n\n							\n					\n						Upcoming Events					\n				\n			\n			\n				\n			\n			\n	\n		\n		\n		\n		\n	\n\n\n	Notice\n							\n					There are no upcoming events.				\n					\n	\n\n					\n	\n\n\n\n\n\n\n		\n		Kiel-Blog\n		\n											\n					New SFK electric ferry MS Dietrichsdorf arrived in Kiel\n									\n											\n					Kiel enters into a twin town relationship with Kherson\n									\n					\n\n		Kiel Lexicon\n            Kiel Canal\n            International Market\n            Nikolai Church
URL:https://welovekiel.com/en/event/flea-market-citti-park-kiel-29-10-2023/
LOCATION:Citti-Park Kiel\, Mühlendamm 1\, Kiel\, 24113\, Deutschland
CATEGORIES:Flea market,Hassee,Kiel,Shopping
ATTACH;FMTTYPE=image/jpeg:https://welovekiel.com/wp-content/uploads/flohmarkt-kiel-citti-park.jpg
END:VEVENT
END:VCALENDAR