BEGIN:VCALENDAR
VERSION:2.0
PRODID:-//We love Kiel - ECPv6.15.14//NONSGML v1.0//EN
CALSCALE:GREGORIAN
METHOD:PUBLISH
X-WR-CALNAME:We love Kiel
X-ORIGINAL-URL:https://welovekiel.com/de/
X-WR-CALDESC:Veranstaltungen für We love Kiel
REFRESH-INTERVAL;VALUE=DURATION:PT1H
X-Robots-Tag:noindex
X-PUBLISHED-TTL:PT1H
BEGIN:VTIMEZONE
TZID:Europe/Berlin
BEGIN:DAYLIGHT
TZOFFSETFROM:+0100
TZOFFSETTO:+0200
TZNAME:CEST
DTSTART:20250330T010000
END:DAYLIGHT
BEGIN:STANDARD
TZOFFSETFROM:+0200
TZOFFSETTO:+0100
TZNAME:CET
DTSTART:20251026T010000
END:STANDARD
BEGIN:DAYLIGHT
TZOFFSETFROM:+0100
TZOFFSETTO:+0200
TZNAME:CEST
DTSTART:20260329T010000
END:DAYLIGHT
BEGIN:STANDARD
TZOFFSETFROM:+0200
TZOFFSETTO:+0100
TZNAME:CET
DTSTART:20261025T010000
END:STANDARD
BEGIN:DAYLIGHT
TZOFFSETFROM:+0100
TZOFFSETTO:+0200
TZNAME:CEST
DTSTART:20270328T010000
END:DAYLIGHT
BEGIN:STANDARD
TZOFFSETFROM:+0200
TZOFFSETTO:+0100
TZNAME:CET
DTSTART:20271031T010000
END:STANDARD
END:VTIMEZONE
BEGIN:VEVENT
DTSTART;TZID=Europe/Berlin:20260628T080000
DTEND;TZID=Europe/Berlin:20260628T150000
DTSTAMP:20260426T022518
CREATED:20260425T203818Z
LAST-MODIFIED:20260425T203818Z
UID:10000666-1782633600-1782658800@welovekiel.com
SUMMARY:Flohmarkt Gettorf Fußgängerzone 28.06.2026
DESCRIPTION:Flohmarkt Gettorf Fußgängerzone am Sonntag\, den 28. Juni 2026 ab 8 Uhr in der Gettorfer Fußgängerzone in der Teichstraße. \nIn den Monaten März bis Oktober 2026 veranstaltet Olaf Platner Veranstaltungs- und Eventmanagement insgesamt acht Flohmärkte in Gettorf in der Fußgängerzone in der Teichstraße. Auf dem Flohmarkt in Gettorf stehen keine überdachten Flohmarktstände zur Verfügung. Hier auf dem Gettorfer Flohmarkt lässt sich sicher das eine oder andere Schnäppchen in der Fußgängerzone finden. \nDer Flohmarkt in Gettorf findet in 2026 an folgenden Sonntagen von 8 bis 15 Uhr statt: \n\nSonntag\, 29. März 2026\nSonntag\, 26. April 2026\nSonntag\, 31. Mai 2026\nSonntag\, 28. Juni 2026\nSonntag\, 19. Juli 2026\nSonntag\, 30. August 2026\nSonntag\, 20. September 2026\nSonntag\, 24. Oktober 2026\n\nEs wird kein Eintritt für Besucher der Flohmärkte in Gettorf erhoben. Für Verkäufer beträgt die Standgebühr pauschal 6\,- Euro je angefangenen laufenden Meter für einen Stand ohne Auto sowie 8\,- Euro je Meter mit Auto\, Mindestabnahme 5 Meter. Bei Transportern beträgt die Mindestabnahme 6 Meter. Anhänger gelten als Auto. Fahrzeuge beziehungsweise Anhänger müssen vorab gebucht werden. Aufbau ab 6.00 Uhr. \nFlohmarkt Gettorf FußgängerzoneMehr über Flohmarkt und Märkte in Kiel & UmgebungErster Flohmarkt des Jahres an der Kieler Hörn Posted on: 24. April 2022Erster Flohmarkt in der Kieler Innenstadt in 2022 Posted on: 3. April 2022\nVideos Flohmärkte in Kiel\n	\n		\n\n			\n			\n\n							\n					\n						Anstehende Veranstaltungen					\n				\n			\n			\n				\n											\n\n	\n	\n		\n			Apr.		\n		\n			26		\n	\n\n\n	\n		\n			\n\n				\n					\n		\n		08:00 - 15:00	\n	\n					\n	\n		Flohmarkt Gettorf Fußgängerzone 26.04.2026	\n\n				\n\n				\n			\n		\n	\n\n\n											\n\n	\n	\n		\n			Apr.		\n		\n			26		\n	\n\n\n	\n		\n			\n\n				\n					\n		\n		08:00 - 16:00	\n	\n					\n	\n		Flohmarkt Kieler Hörn 26.04.2026	\n\n				\n\n				\n			\n		\n	\n\n\n											\n\n	\n	\n		\n			Apr.		\n		\n			26		\n	\n\n\n	\n		\n			\n\n				\n					\n		\n		08:30 - 16:00	\n	\n					\n	\n		Flohmarkt famila Kiel-Neumeimersdorf 26.4.2026	\n\n				\n\n				\n			\n		\n	\n\n\n											\n\n	\n	\n		\n			Mai		\n		\n			3		\n	\n\n\n	\n		\n			\n\n				\n					\n		\n		08:00 - 16:00	\n	\n					\n	\n		Flohmarkt Kiel Innenstadt Holstenplatz bis Rathausplatz 03.05.2026	\n\n				\n\n				\n			\n		\n	\n\n\n											\n\n	\n	\n		\n			Mai		\n		\n			10		\n	\n\n\n	\n		\n			\n\n				\n					\n		\n		06:00 - 16:00	\n	\n					\n	\n		Flohmarkt Kaufland Kiel-Mettenhof 10.05.2026	\n\n				\n\n				\n			\n		\n	\n\n\n											\n\n	\n	\n		\n			Mai		\n		\n			14		\n	\n\n\n	\n		\n			\n\n				\n					\n		\n		08:00 - 16:00	\n	\n					\n	\n		Flohmarkt Kaufland Schwentinental / Raisdorf 14.5.2026	\n\n				\n\n				\n			\n		\n	\n\n\n											\n\n	\n	\n		\n			Mai		\n		\n			17		\n	\n\n\n	\n		\n			\n\n				\n					\n		\n		06:00 - 16:00	\n	\n					\n	\n		Flohmarkt famila Kiel-Wik 17.5.2026	\n\n				\n\n				\n			\n		\n	\n\n\n											\n\n	\n	\n		\n			Mai		\n		\n			17		\n	\n\n\n	\n		\n			\n\n				\n					\n		\n		08:00 - 16:00	\n	\n					\n	\n		Flohmarkt Citti-Park Kiel 17.5.2026	\n\n				\n\n				\n			\n		\n	\n\n\n											\n\n	\n	\n		\n			Mai		\n		\n			31		\n	\n\n\n	\n		\n			\n\n				\n					\n		\n		08:00 - 15:00	\n	\n					\n	\n		Flohmarkt Gettorf Fußgängerzone 31.05.2026	\n\n				\n\n				\n			\n		\n	\n\n\n											\n\n	\n	\n		\n			Mai		\n		\n			31		\n	\n\n\n	\n		\n			\n\n				\n					\n		\n		08:30 - 16:00	\n	\n					\n	\n		Flohmarkt famila Kiel-Neumeimersdorf 31.5.2026	\n\n				\n\n				\n			\n		\n	\n\n\n									\n\n				\n	\n		Kalender anzeigen	\n\n\n					\n	\n\n\n\n\n\n\n		\n		Neu im Kiel-Blog\n		\n											\n					Bühnenaufbau Holstein Kiel Aufstiegsparty Rathausplatz Sonntagnachmittag\n									\n											\n					Holstein Kiel Bundesliga Aufstiegsparty am Holstein-Stadion nach Unentschieden gegen Düsseldorf\n									\n					\n\n		Aus dem Kiel-Lexikon\n            Schleusenpark\n            Altstadt\n            Rathmannsdorfer Schleuse
URL:https://welovekiel.com/de/event/flohmarkt-gettorf-fussgaengerzone-28-06-2026/
LOCATION:Gettorf Fußgängerzone\, Teichstraße\, Gettorf\, 24214\, Deutschland
CATEGORIES:Flohmarkt,Kieler Umland,Shopping
ATTACH;FMTTYPE=image/jpeg:https://welovekiel.com/wp-content/uploads/flohmarkt-stand-deko-glaeser.jpg
END:VEVENT
END:VCALENDAR