BEGIN:VCALENDAR
VERSION:2.0
PRODID:-//We love Kiel - ECPv6.15.14//NONSGML v1.0//EN
CALSCALE:GREGORIAN
METHOD:PUBLISH
X-ORIGINAL-URL:https://welovekiel.com/de/
X-WR-CALDESC:Veranstaltungen für We love Kiel
REFRESH-INTERVAL;VALUE=DURATION:PT1H
X-Robots-Tag:noindex
X-PUBLISHED-TTL:PT1H
BEGIN:VTIMEZONE
TZID:Europe/Berlin
BEGIN:DAYLIGHT
TZOFFSETFROM:+0100
TZOFFSETTO:+0200
TZNAME:CEST
DTSTART:20220327T010000
END:DAYLIGHT
BEGIN:STANDARD
TZOFFSETFROM:+0200
TZOFFSETTO:+0100
TZNAME:CET
DTSTART:20221030T010000
END:STANDARD
BEGIN:DAYLIGHT
TZOFFSETFROM:+0100
TZOFFSETTO:+0200
TZNAME:CEST
DTSTART:20230326T010000
END:DAYLIGHT
BEGIN:STANDARD
TZOFFSETFROM:+0200
TZOFFSETTO:+0100
TZNAME:CET
DTSTART:20231029T010000
END:STANDARD
BEGIN:DAYLIGHT
TZOFFSETFROM:+0100
TZOFFSETTO:+0200
TZNAME:CEST
DTSTART:20240331T010000
END:DAYLIGHT
BEGIN:STANDARD
TZOFFSETFROM:+0200
TZOFFSETTO:+0100
TZNAME:CET
DTSTART:20241027T010000
END:STANDARD
END:VTIMEZONE
BEGIN:VTIMEZONE
TZID:UTC
BEGIN:STANDARD
TZOFFSETFROM:+0000
TZOFFSETTO:+0000
TZNAME:UTC
DTSTART:20220101T000000
END:STANDARD
END:VTIMEZONE
BEGIN:VEVENT
DTSTART;TZID=Europe/Berlin:20230902T130000
DTEND;TZID=Europe/Berlin:20230902T150000
DTSTAMP:20260421T141439
CREATED:20230828T173626Z
LAST-MODIFIED:20230828T173642Z
UID:10000409-1693659600-1693666800@welovekiel.com
SUMMARY:Holstein Kiel - SC Paderborn 07 (2. BL / 5. Spieltag 2023/2024)
DESCRIPTION:02.09.2023 Heimspiel Holstein Kiel – SC Paderborn 07 (2. BL / 5. Spieltag 2023/2024) im Kieler Holstein-Stadion am Samstag\, den 2. September 2023. \nAm 5. Spieltag der 2. Fußball-Bundesliga 2024/2024 empfangen die Störche die Mannschaft SC Paderborn 07 im Holstein-Stadion am 02.09.2023. Anpfiff von Holstein Kiel gegen Paderborn ist am Samstag um 13.00 Uhr. \nTicketinfos Tageskarten Stehplätze Heimspiele Holstein Kiel \nTageskarte Stehplatz nicht überdacht: 14\,00 EUR im VVK und 16\,00 EUR an den Tageskassen am Stadion. \nTageskarte Stehplatz überdacht: 15\,00 EUR im VVK und 17\,00 EUR an den Tageskassen am Stadion. \nTicketinfos Tageskarten Sitzplätze Heimspiele Holstein Kiel \nTageskarte Sitzplatz nicht überdacht: 26\,00 EUR im VVK und 28\,00 EUR an den Tageskassen am Stadion. \nTageskarte Sitzplatz überdacht: 31\,00 EUR im VVK und 33\,00 EUR an den Tageskassen am Stadion. \nKostenlos ÖPNV nutzen mit Holstein-Eintrittskarte \nWer über ein gültiges Ticket für ein Heimspiel in der 2. Bundesliga von Holstein Kiel verfügt\, der kann am Spieltag kostenlos mit Bus\, Fähre und Bahn zum Spiel im Holstein-Stadion hin- und zurückfahren. Achtung\, Tickets der Gästefans sind davon ausgenommen! \nHolstein-Stadion Heimspielstätte von Holstein KielDies könnte dich auch interessierenBühnenaufbau Holstein Kiel Aufstiegsparty Rathausplatz SonntagnachmittagHolstein Kiel Bundesliga Aufstiegsparty am Holstein-Stadion nach Unentschieden gegen DüsseldorfHolstein Kiel Fans: Fanmarsch von Forstbaumschule zum Holstein-Stadion vor letztem Heimspiel gegen DüsseldorfFin Bartels Abschied: Lasershow & Drohnenshow über dem Holstein-StadionAutogrammstunde mit den Mannschaften von Holstein Kiel und THW Kiel im Citti-ParkFußball WM 2022: Hier kannst du Spiele der WM in Kiel schauenHolstein-Stadion: Zuschauerbegrenzung in Stadien und HallenCorona-Lockerungen ab 26. Juli 2021 in Schleswig-HolsteinHolstein Kiel - 1. FC Köln Relegationsspiel Kieler Fans vor dem Holstein-StadionKieler Fans vor dem Holsteinstadion beim Spiel Kiel - Darmstadt am 23.05.2021\nVideos Holstein Kiel\n	\n		\n\n			\n			\n\n							\n					\n						Anstehende Veranstaltungen					\n				\n			\n			\n				\n											\n\n	\n	\n		\n			Apr.		\n		\n			26		\n	\n\n\n	\n		\n			\n\n				\n					\n		\n		08:30 - 16:00	\n	\n					\n	\n		Flohmarkt famila Kiel-Neumeimersdorf 26.4.2026	\n\n				\n\n				\n			\n		\n	\n\n\n											\n\n	\n	\n		\n			Mai		\n		\n			3		\n	\n\n\n	\n		\n			\n\n				\n					\n		\n		08:00 - 16:00	\n	\n					\n	\n		Flohmarkt Kiel Innenstadt Holstenplatz bis Rathausplatz 03.05.2026	\n\n				\n\n				\n			\n		\n	\n\n\n											\n\n	\n	\n		\n			Mai		\n		\n			10		\n	\n\n\n	\n		\n			\n\n				\n					\n		\n		06:00 - 16:00	\n	\n					\n	\n		Flohmarkt Kaufland Kiel-Mettenhof 10.05.2026	\n\n				\n\n				\n			\n		\n	\n\n\n											\n\n	\n	\n		\n			Mai		\n		\n			14		\n	\n\n\n	\n		\n			\n\n				\n					\n		\n		08:00 - 16:00	\n	\n					\n	\n		Flohmarkt Kaufland Schwentinental / Raisdorf 14.5.2026	\n\n				\n\n				\n			\n		\n	\n\n\n											\n\n	\n	\n		\n			Mai		\n		\n			17		\n	\n\n\n	\n		\n			\n\n				\n					\n		\n		06:00 - 16:00	\n	\n					\n	\n		Flohmarkt famila Kiel-Wik 17.5.2026	\n\n				\n\n				\n			\n		\n	\n\n\n											\n\n	\n	\n		\n			Mai		\n		\n			17		\n	\n\n\n	\n		\n			\n\n				\n					\n		\n		08:00 - 16:00	\n	\n					\n	\n		Flohmarkt Citti-Park Kiel 17.5.2026	\n\n				\n\n				\n			\n		\n	\n\n\n											\n\n	\n	\n		\n			Mai		\n		\n			31		\n	\n\n\n	\n		\n			\n\n				\n					\n		\n		08:30 - 16:00	\n	\n					\n	\n		Flohmarkt famila Kiel-Neumeimersdorf 31.5.2026	\n\n				\n\n				\n			\n		\n	\n\n\n											\n\n	\n	\n		\n			Juni		\n		\n			7		\n	\n\n\n	\n		\n			\n\n				\n					\n		\n		08:00 - 16:00	\n	\n					\n	\n		Flohmarkt Kiel Innenstadt Holstenplatz bis Rathausplatz 07.06.2026	\n\n				\n\n				\n			\n		\n	\n\n\n											\n\n	\n	\n		\n			Juni		\n		\n			14		\n	\n\n\n	\n		\n			\n\n				\n					\n		\n		06:00 - 16:00	\n	\n					\n	\n		Flohmarkt Kaufland Kiel-Mettenhof 14.06.2026	\n\n				\n\n				\n			\n		\n	\n\n\n											\n\n	\n	\n		\n			Juni		\n		\n			14		\n	\n\n\n	\n		\n			\n\n				\n					\n		\n		08:00 - 16:00	\n	\n					\n	\n		Flohmarkt Citti-Park Kiel 14.6.2026	\n\n				\n\n				\n			\n		\n	\n\n\n									\n\n				\n	\n		Kalender anzeigen	\n\n\n					\n	\n\n\n\n\n\n\n		\n		Neu im Kiel-Blog\n		\n											\n					Bühnenaufbau Holstein Kiel Aufstiegsparty Rathausplatz Sonntagnachmittag\n									\n											\n					Holstein Kiel Bundesliga Aufstiegsparty am Holstein-Stadion nach Unentschieden gegen Düsseldorf\n									\n					\n\n		Aus dem Kiel-Lexikon\n            Tirpitzhafen Kiel\n            Norwegenkai\n            Weihnachtsmarkt Kiel Bernhard-Minetti-Platz
URL:https://welovekiel.com/de/event/holstein-kiel-sc-paderborn-02-09-2023/
LOCATION:Holstein-Stadion\, Westring 501\, Kiel\, 24106\, Deutschland
CATEGORIES:Fußball,Kiel,Sport,Wik
ATTACH;FMTTYPE=image/jpeg:https://welovekiel.com/wp-content/uploads/kieler-fans-holstein-kiel-fc-koeln-relegation-holstein-stadion3.jpg
END:VEVENT
BEGIN:VEVENT
DTSTART;TZID=UTC:20230903T080000
DTEND;TZID=UTC:20230903T160000
DTSTAMP:20260421T141439
CREATED:20230228T085935Z
LAST-MODIFIED:20230228T085935Z
UID:10000321-1693728000-1693756800@welovekiel.com
SUMMARY:Flohmarkt Kieler Innenstadt 03.09.2023
DESCRIPTION:Flohmarkt Kieler Innenstadt am Sonntag\, den 3. September 2023 ab 8 Uhr auf dem Rathausplatz\, Asmus-Bremer-Platz\, Europaplatz\, Fleethörn und in der Holstenstraße. \nIn den Monaten April bis Oktober 2023 veranstaltet die Landeshauptstadt Kiel mehrere Flohmärkte in der Kieler Innenstadt rund um den Rathausplatz. Hier auf dem Flohmarkt in der Innenstadt der Landeshauptstadt Kiel auf dem Rathausplatz\, Asmus-Bremer-Platz\, Europaplatz\, Fleethörn\, Holstenplatz und in der Holstenstraße lässt sich sicher das eine oder andere Schnäppchen finden. Und es ist garantiert für jeden etwas dabei auf dem Flohmarkt in der Innenstadt. \nDer Flohmarkt in der Kieler Innenstadt findet in 2023 an folgenden Sonntagen statt: \n\n02. April 2023\n07. Mai 2023\n04. Juni 2023\n02. Juli 2023\n06. August 2023\n03. September 2023\n01. Oktober 2023\n\nDie Landeshauptstadt Kiel erhebt keinen Eintritt für Besucher der Flohmärkte an der Hörn oder in der Kieler Innenstadt. Für Verkäufer beträgt die Standgebühr pauschal 5\,- Euro je angefangenen laufenden Meter. Der fällige Betrag sollte in bar und möglichst passend bereitgehalten werden. Der Aufbau am Stand darf ab 4 Uhr erfolgen. Dabei ist zu beachten\, dass Fahrzeuge nach dem Ausladen schnellstmöglich die Veranstaltungsfläche wieder verlassen. Das Abstellen/Parken von Autos oder LKWs hinter dem Flohmarktstand ist auf den Flohmärkten in der Kieler Innenstadt grundsätzlich nicht gestattet. \nFlohmarkt Kieler InnenstadtMehr über Flohmarkt und Märkte in KielErster Flohmarkt des Jahres an der Kieler HörnErster Flohmarkt in der Kieler Innenstadt in 2022\nVideo Flohmarkt in der Kieler Innenstadt rund um den Rathausplatz\n	\n		\n\n			\n			\n\n							\n					\n						Anstehende Veranstaltungen					\n				\n			\n			\n				\n											\n\n	\n	\n		\n			Apr.		\n		\n			26		\n	\n\n\n	\n		\n			\n\n				\n					\n		\n		08:30 - 16:00	\n	\n					\n	\n		Flohmarkt famila Kiel-Neumeimersdorf 26.4.2026	\n\n				\n\n				\n			\n		\n	\n\n\n											\n\n	\n	\n		\n			Mai		\n		\n			3		\n	\n\n\n	\n		\n			\n\n				\n					\n		\n		08:00 - 16:00	\n	\n					\n	\n		Flohmarkt Kiel Innenstadt Holstenplatz bis Rathausplatz 03.05.2026	\n\n				\n\n				\n			\n		\n	\n\n\n											\n\n	\n	\n		\n			Mai		\n		\n			10		\n	\n\n\n	\n		\n			\n\n				\n					\n		\n		06:00 - 16:00	\n	\n					\n	\n		Flohmarkt Kaufland Kiel-Mettenhof 10.05.2026	\n\n				\n\n				\n			\n		\n	\n\n\n											\n\n	\n	\n		\n			Mai		\n		\n			14		\n	\n\n\n	\n		\n			\n\n				\n					\n		\n		08:00 - 16:00	\n	\n					\n	\n		Flohmarkt Kaufland Schwentinental / Raisdorf 14.5.2026	\n\n				\n\n				\n			\n		\n	\n\n\n											\n\n	\n	\n		\n			Mai		\n		\n			17		\n	\n\n\n	\n		\n			\n\n				\n					\n		\n		06:00 - 16:00	\n	\n					\n	\n		Flohmarkt famila Kiel-Wik 17.5.2026	\n\n				\n\n				\n			\n		\n	\n\n\n											\n\n	\n	\n		\n			Mai		\n		\n			17		\n	\n\n\n	\n		\n			\n\n				\n					\n		\n		08:00 - 16:00	\n	\n					\n	\n		Flohmarkt Citti-Park Kiel 17.5.2026	\n\n				\n\n				\n			\n		\n	\n\n\n											\n\n	\n	\n		\n			Mai		\n		\n			31		\n	\n\n\n	\n		\n			\n\n				\n					\n		\n		08:30 - 16:00	\n	\n					\n	\n		Flohmarkt famila Kiel-Neumeimersdorf 31.5.2026	\n\n				\n\n				\n			\n		\n	\n\n\n											\n\n	\n	\n		\n			Juni		\n		\n			7		\n	\n\n\n	\n		\n			\n\n				\n					\n		\n		08:00 - 16:00	\n	\n					\n	\n		Flohmarkt Kiel Innenstadt Holstenplatz bis Rathausplatz 07.06.2026	\n\n				\n\n				\n			\n		\n	\n\n\n											\n\n	\n	\n		\n			Juni		\n		\n			14		\n	\n\n\n	\n		\n			\n\n				\n					\n		\n		06:00 - 16:00	\n	\n					\n	\n		Flohmarkt Kaufland Kiel-Mettenhof 14.06.2026	\n\n				\n\n				\n			\n		\n	\n\n\n											\n\n	\n	\n		\n			Juni		\n		\n			14		\n	\n\n\n	\n		\n			\n\n				\n					\n		\n		08:00 - 16:00	\n	\n					\n	\n		Flohmarkt Citti-Park Kiel 14.6.2026	\n\n				\n\n				\n			\n		\n	\n\n\n									\n\n				\n	\n		Kalender anzeigen	\n\n\n					\n	\n\n\n\n\n\n\n		\n		Neu im Kiel-Blog\n		\n											\n					Bühnenaufbau Holstein Kiel Aufstiegsparty Rathausplatz Sonntagnachmittag\n									\n											\n					Holstein Kiel Bundesliga Aufstiegsparty am Holstein-Stadion nach Unentschieden gegen Düsseldorf\n									\n					\n\n		Aus dem Kiel-Lexikon\n            Seebar Düsternbrook\n            Schwedenkai\n            Asmus-Bremer-Platz
URL:https://welovekiel.com/de/event/flohmarkt-kieler-innenstadt-03-09-2023/
LOCATION:Rathausplatz Kiel\, Rathausplatz\, Kiel\, 24103\, Deutschland
CATEGORIES:Flohmarkt,Kiel,Shopping
ATTACH;FMTTYPE=image/jpeg:https://welovekiel.com/wp-content/uploads/flohmarkt-kiel-asmus-bremer-platz2022.jpg
END:VEVENT
END:VCALENDAR