BEGIN:VCALENDAR
VERSION:2.0
PRODID:-//We love Kiel - ECPv6.15.14//NONSGML v1.0//EN
CALSCALE:GREGORIAN
METHOD:PUBLISH
X-ORIGINAL-URL:https://welovekiel.com/de/
X-WR-CALDESC:Veranstaltungen für We love Kiel
REFRESH-INTERVAL;VALUE=DURATION:PT1H
X-Robots-Tag:noindex
X-PUBLISHED-TTL:PT1H
BEGIN:VTIMEZONE
TZID:Europe/Berlin
BEGIN:DAYLIGHT
TZOFFSETFROM:+0100
TZOFFSETTO:+0200
TZNAME:CEST
DTSTART:20220327T010000
END:DAYLIGHT
BEGIN:STANDARD
TZOFFSETFROM:+0200
TZOFFSETTO:+0100
TZNAME:CET
DTSTART:20221030T010000
END:STANDARD
BEGIN:DAYLIGHT
TZOFFSETFROM:+0100
TZOFFSETTO:+0200
TZNAME:CEST
DTSTART:20230326T010000
END:DAYLIGHT
BEGIN:STANDARD
TZOFFSETFROM:+0200
TZOFFSETTO:+0100
TZNAME:CET
DTSTART:20231029T010000
END:STANDARD
BEGIN:DAYLIGHT
TZOFFSETFROM:+0100
TZOFFSETTO:+0200
TZNAME:CEST
DTSTART:20240331T010000
END:DAYLIGHT
BEGIN:STANDARD
TZOFFSETFROM:+0200
TZOFFSETTO:+0100
TZNAME:CET
DTSTART:20241027T010000
END:STANDARD
END:VTIMEZONE
BEGIN:VEVENT
DTSTART;TZID=Europe/Berlin:20230624T110000
DTEND;TZID=Europe/Berlin:20230624T150000
DTSTAMP:20260420T200544
CREATED:20221230T131830Z
LAST-MODIFIED:20221230T131830Z
UID:10000257-1687604400-1687618800@welovekiel.com
SUMMARY:Kieler Woche Windjammerparade 2023
DESCRIPTION:Kieler Woche Windjammerparade 2023 in der Kieler Förde am 24.06.2023 – Maritimes Highlight der Kieler Woche mit über 100 teilnehmenden Segelschiffen. \nDie Windjammerparade in Kiel während der Kieler Woche zählt zu einem der Highlights der jährlich stattfindenden Kieler Woche. Wenn die Windjammerparade stattfindet\, jeweils immer am letzten Samstag der Kieler Woche\, zieht es immer zehntausende Zuschauer ans West- und Ostufer der Kieler Förde. \nAblauf Windjammerparade 2023\nDie Segelparade startete am Samstag\, den 24. Juni 2023 wie immer um 11 Uhr in der Kieler Innenförde und nimmt Kurs Richtung Leuchtturm Friedrichsort und Außenförde. Auch besteht natürlich wieder die Möglichkeit sich die Windjammerparade von Land aus\, beispielsweise vom Falckensteiner Strand\, vom Holtenauer Leuchtturm an der Förde oder auch vom Kieler Ostufer\, beispielsweise Höhe U-Boot-Ehrenmal Möltenort\, anzuschauen. Auch das Mitsegeln auf einem der zahlreichen teilnehmenden Schiffe wird in diesem Jahr natürlich möglich sein. \nAufgrund der Corona-Pandemie / COVID-19 wurde die Kieler Woche in 2020 und 2021 von Juni auf September verschoben und somit hatte die Windjammerparade in diesen beiden Jahren ebenfalls im September stattgefunden. Seit vergangenem Jahr findet die Kieler Woche wieder wie gewohnt in der letzten Juniwoche statt. Teilnehmer und Zuschauer der Windjammerparade freuen sich auf Sommerwetter und Sonnenschein zur Kieler Woche Windjammerparade 2023 in der Kieler Förde am 24.06.2023. \nBilder WindjammerparadeVideos Kieler Woche Windjammerparade\n	\n		\n\n			\n			\n\n							\n					\n						Anstehende Veranstaltungen					\n				\n			\n			\n				\n			\n			\n	\n		\n		\n		\n		\n	\n\n\n	Hinweis\n							\n					Es sind keine anstehenden Veranstaltungen vorhanden.				\n					\n	\n\n					\n	\n\n\n\n\n\n\n		\n		Neu im Kiel-Blog\n		\n											\n					Bühnenaufbau Holstein Kiel Aufstiegsparty Rathausplatz Sonntagnachmittag\n									\n											\n					Holstein Kiel Bundesliga Aufstiegsparty am Holstein-Stadion nach Unentschieden gegen Düsseldorf\n									\n					\n\n		Aus dem Kiel-Lexikon\n            Leuchtturm Friedrichsort\n            Kieler Weihnachtsdorf\n            Blücherplatz
URL:https://welovekiel.com/de/event/kieler-woche-windjammerparade-2023/
LOCATION:Kieler Förde\, Reventloubrücke\, Kiel\, Deutschland
CATEGORIES:Kiel,Kieler Woche
ATTACH;FMTTYPE=image/jpeg:https://welovekiel.com/wp-content/uploads/windjammer-parade-2019-kiel.jpg
END:VEVENT
END:VCALENDAR