BEGIN:VCALENDAR
VERSION:2.0
PRODID:-//We love Kiel - ECPv6.15.14//NONSGML v1.0//EN
CALSCALE:GREGORIAN
METHOD:PUBLISH
X-WR-CALNAME:We love Kiel
X-ORIGINAL-URL:https://welovekiel.com/de/
X-WR-CALDESC:Veranstaltungen für We love Kiel
REFRESH-INTERVAL;VALUE=DURATION:PT1H
X-Robots-Tag:noindex
X-PUBLISHED-TTL:PT1H
BEGIN:VTIMEZONE
TZID:Europe/Berlin
BEGIN:DAYLIGHT
TZOFFSETFROM:+0100
TZOFFSETTO:+0200
TZNAME:CEST
DTSTART:20220327T010000
END:DAYLIGHT
BEGIN:STANDARD
TZOFFSETFROM:+0200
TZOFFSETTO:+0100
TZNAME:CET
DTSTART:20221030T010000
END:STANDARD
BEGIN:DAYLIGHT
TZOFFSETFROM:+0100
TZOFFSETTO:+0200
TZNAME:CEST
DTSTART:20230326T010000
END:DAYLIGHT
BEGIN:STANDARD
TZOFFSETFROM:+0200
TZOFFSETTO:+0100
TZNAME:CET
DTSTART:20231029T010000
END:STANDARD
BEGIN:DAYLIGHT
TZOFFSETFROM:+0100
TZOFFSETTO:+0200
TZNAME:CEST
DTSTART:20240331T010000
END:DAYLIGHT
BEGIN:STANDARD
TZOFFSETFROM:+0200
TZOFFSETTO:+0100
TZNAME:CET
DTSTART:20241027T010000
END:STANDARD
END:VTIMEZONE
BEGIN:VEVENT
DTSTART;TZID=Europe/Berlin:20230617T220000
DTEND;TZID=Europe/Berlin:20230617T230000
DTSTAMP:20260421T034724
CREATED:20230608T151913Z
LAST-MODIFIED:20230608T153528Z
UID:10000395-1687039200-1687042800@welovekiel.com
SUMMARY:Lori live auf der Rathausbühne 17.06.2023
DESCRIPTION:Lori live auf der Rathausbühne am Samstag\, den 17.06.2023 ab 22.00 Uhr. Lori Konzert auf dem Kieler Rathausplatz während der Kieler Woche 2023. \nAm Samstagabend findet ein weiteres Konzert auf der Rathausbühne auf dem Kieler Rathausplatz statt. Die Musikerin Lori wird auf der Rathausbühne ab 22.00 Uhr live zu sehen sein und eine Auswahl ihrer Songs spielen\, darunter mit Sicherheit auch „Astronautinnen“ und „Phoenix“. \nLori (eigentlich Laura Diederich) ist eine Deutsch-Pop-Sängerin mit internationalen Beats und autobiografischen Texten. Fans von Lori werden es sich sicher nicht entgehen lassen sie während der Kieler Woche 2023 live auf der Rathausbühne zu erleben. \nKostenloses Konzert: Der Eintritt zur Rathausbühne und zum Lori Konzert am 17. Juni ist natürlich frei. Viel Spaß mit Lori live auf der Kieler Woche 2023 bei ihrem Konzert auf der Rathausbühne. \nMehr über die Kieler WocheKieler Woche Feuerwerk 2023 mit Laser\, Drohnen und James Bond MusikKieler Woche Windjammerparade 2023 Segelschiff in der Kieler FördeKieler Woche 2023: Konzerte am Samstag 24.06.2023Kieler Woche 2023: Konzerte am Freitag 23.06.2023Kieler Woche 2023: Konzerte am Donnerstag 22.6.2023Kieler Woche 2023: Konzerte am Mittwoch 21.06.2023Kieler Woche 2023: Konzerte am Dienstag 20.06.2023Kieler Woche 2023: Konzerte am Montag 19.06.2023Kieler Woche 2023: Konzerte am Sonntag 18.06.2023Kieler Woche 2023: Konzerte am Samstag\, 17.06.2023Soundcheck Kieler Woche 2023: Konzerte am 16.6.2023Bis zum Ende der Kieler Woche 2023: Freie Fahrt auf beiden Holtenauer Hochbrücken\nVideos von Lori auf YouTube\n	\n		\n\n			\n			\n\n							\n					\n						Anstehende Veranstaltungen					\n				\n			\n			\n				\n			\n			\n	\n		\n		\n		\n		\n	\n\n\n	Hinweis\n							\n					Es sind keine anstehenden Veranstaltungen vorhanden.				\n					\n	\n\n					\n	\n\n\n\n\n\n\n		\n		Neu im Kiel-Blog\n		\n											\n					Bühnenaufbau Holstein Kiel Aufstiegsparty Rathausplatz Sonntagnachmittag\n									\n											\n					Holstein Kiel Bundesliga Aufstiegsparty am Holstein-Stadion nach Unentschieden gegen Düsseldorf\n									\n					\n\n		Aus dem Kiel-Lexikon\n            Rathausplatz Erlebnis- und Kinoareal\n            Schwedenkai\n            Falckensteiner Strand
URL:https://welovekiel.com/de/event/lori-live-kieler-woche-rathausbuehne-17-06-2023/
LOCATION:Rathausbühne\, Rathausplatz\, Kiel\, 24103\, Deutschland
CATEGORIES:Kiel,Kieler Woche Konzerte,Konzerte
ATTACH;FMTTYPE=image/jpeg:https://welovekiel.com/wp-content/uploads/kieler-woche-2022-rathausbuehne-rathausplatz.jpg
END:VEVENT
BEGIN:VEVENT
DTSTART;TZID=Europe/Berlin:20230618T191000
DTEND;TZID=Europe/Berlin:20230618T210000
DTSTAMP:20260421T034724
CREATED:20230608T161346Z
LAST-MODIFIED:20230608T161346Z
UID:10000396-1687115400-1687122000@welovekiel.com
SUMMARY:JusToto live auf der Rathausbühne 18.06.2023
DESCRIPTION:JusToto live auf der Rathausbühne am Sonntag\, den 18.06.2023 ab 19.10 Uhr. JusToto Konzert auf dem Kieler Rathausplatz während der Kieler Woche 2023. \nAm Sonntagabend findet ein weiteres Konzert auf der Rathausbühne auf dem Kieler Rathausplatz statt. Die Band JusToto wird auf der Rathausbühne ab 19.10 Uhr live zu sehen sein und eine Auswahl ihrer Songs spielen\, darunter mit Sicherheit auch „Africa“ und „Rosanna“. \nJusToto ist eine Coverband und spielt\, wie es im Bandnamen schon ersichtlich ist\, Songs von TOTO. Fans von JusToto werden es sich sicher nicht entgehen lassen sie während der Kieler Woche 2023 live auf der Rathausbühne zu erleben. \nKostenloses Konzert: Der Eintritt zur Rathausbühne und zum JusToto Konzert am 18. Juni ist natürlich frei. Viel Spaß mit JusToto live auf der Kieler Woche 2023 bei ihrem Konzert auf der Rathausbühne. \nMehr über die Kieler WocheKieler Woche Feuerwerk 2023 mit Laser\, Drohnen und James Bond MusikKieler Woche Windjammerparade 2023 Segelschiff in der Kieler FördeKieler Woche 2023: Konzerte am Samstag 24.06.2023Kieler Woche 2023: Konzerte am Freitag 23.06.2023Kieler Woche 2023: Konzerte am Donnerstag 22.6.2023Kieler Woche 2023: Konzerte am Mittwoch 21.06.2023Kieler Woche 2023: Konzerte am Dienstag 20.06.2023Kieler Woche 2023: Konzerte am Montag 19.06.2023Kieler Woche 2023: Konzerte am Sonntag 18.06.2023Kieler Woche 2023: Konzerte am Samstag\, 17.06.2023Soundcheck Kieler Woche 2023: Konzerte am 16.6.2023Bis zum Ende der Kieler Woche 2023: Freie Fahrt auf beiden Holtenauer Hochbrücken\nVideos von JusToto auf YouTube\n	\n		\n\n			\n			\n\n							\n					\n						Anstehende Veranstaltungen					\n				\n			\n			\n				\n			\n			\n	\n		\n		\n		\n		\n	\n\n\n	Hinweis\n							\n					Es sind keine anstehenden Veranstaltungen vorhanden.				\n					\n	\n\n					\n	\n\n\n\n\n\n\n		\n		Neu im Kiel-Blog\n		\n											\n					Bühnenaufbau Holstein Kiel Aufstiegsparty Rathausplatz Sonntagnachmittag\n									\n											\n					Holstein Kiel Bundesliga Aufstiegsparty am Holstein-Stadion nach Unentschieden gegen Düsseldorf\n									\n					\n\n		Aus dem Kiel-Lexikon\n            Wiker Balkon\n            Norwegenkai\n            Barcamp Kiel
URL:https://welovekiel.com/de/event/justoto-live-kieler-woche-rathausbuehne-18-06-2023/
LOCATION:Rathausbühne\, Rathausplatz\, Kiel\, 24103\, Deutschland
CATEGORIES:Kiel,Kieler Woche Konzerte,Konzerte
ATTACH;FMTTYPE=image/jpeg:https://welovekiel.com/wp-content/uploads/kieler-woche-2022-rathausbuehne-rathausplatz.jpg
END:VEVENT
END:VCALENDAR