BEGIN:VCALENDAR
VERSION:2.0
PRODID:-//We love Kiel - ECPv6.15.14//NONSGML v1.0//EN
CALSCALE:GREGORIAN
METHOD:PUBLISH
X-ORIGINAL-URL:https://welovekiel.com/de/
X-WR-CALDESC:Veranstaltungen für We love Kiel
REFRESH-INTERVAL;VALUE=DURATION:PT1H
X-Robots-Tag:noindex
X-PUBLISHED-TTL:PT1H
BEGIN:VTIMEZONE
TZID:UTC
BEGIN:STANDARD
TZOFFSETFROM:+0000
TZOFFSETTO:+0000
TZNAME:UTC
DTSTART:20220101T000000
END:STANDARD
END:VTIMEZONE
BEGIN:VTIMEZONE
TZID:Europe/Berlin
BEGIN:DAYLIGHT
TZOFFSETFROM:+0100
TZOFFSETTO:+0200
TZNAME:CEST
DTSTART:20220327T010000
END:DAYLIGHT
BEGIN:STANDARD
TZOFFSETFROM:+0200
TZOFFSETTO:+0100
TZNAME:CET
DTSTART:20221030T010000
END:STANDARD
BEGIN:DAYLIGHT
TZOFFSETFROM:+0100
TZOFFSETTO:+0200
TZNAME:CEST
DTSTART:20230326T010000
END:DAYLIGHT
BEGIN:STANDARD
TZOFFSETFROM:+0200
TZOFFSETTO:+0100
TZNAME:CET
DTSTART:20231029T010000
END:STANDARD
BEGIN:DAYLIGHT
TZOFFSETFROM:+0100
TZOFFSETTO:+0200
TZNAME:CEST
DTSTART:20240331T010000
END:DAYLIGHT
BEGIN:STANDARD
TZOFFSETFROM:+0200
TZOFFSETTO:+0100
TZNAME:CET
DTSTART:20241027T010000
END:STANDARD
END:VTIMEZONE
BEGIN:VEVENT
DTSTART;TZID=UTC:20230604T080000
DTEND;TZID=UTC:20230604T160000
DTSTAMP:20260425T002935
CREATED:20230228T085520Z
LAST-MODIFIED:20230228T085520Z
UID:10000318-1685865600-1685894400@welovekiel.com
SUMMARY:Flohmarkt Kieler Innenstadt 04.06.2023
DESCRIPTION:Flohmarkt Kieler Innenstadt am Sonntag\, den 4. Juni 2023 ab 8 Uhr auf dem Rathausplatz\, Asmus-Bremer-Platz\, Europaplatz\, Fleethörn und in der Holstenstraße. \nIn den Monaten April bis Oktober 2023 veranstaltet die Landeshauptstadt Kiel mehrere Flohmärkte in der Kieler Innenstadt rund um den Rathausplatz. Hier auf dem Flohmarkt in der Innenstadt der Landeshauptstadt Kiel auf dem Rathausplatz\, Asmus-Bremer-Platz\, Europaplatz\, Fleethörn\, Holstenplatz und in der Holstenstraße lässt sich sicher das eine oder andere Schnäppchen finden. Und es ist garantiert für jeden etwas dabei auf dem Flohmarkt in der Innenstadt. \nDer Flohmarkt in der Kieler Innenstadt findet in 2023 an folgenden Sonntagen statt: \n\n02. April 2023\n07. Mai 2023\n04. Juni 2023\n02. Juli 2023\n06. August 2023\n03. September 2023\n01. Oktober 2023\n\nDie Landeshauptstadt Kiel erhebt keinen Eintritt für Besucher der Flohmärkte an der Hörn oder in der Kieler Innenstadt. Für Verkäufer beträgt die Standgebühr pauschal 5\,- Euro je angefangenen laufenden Meter. Der fällige Betrag sollte in bar und möglichst passend bereitgehalten werden. Der Aufbau am Stand darf ab 4 Uhr erfolgen. Dabei ist zu beachten\, dass Fahrzeuge nach dem Ausladen schnellstmöglich die Veranstaltungsfläche wieder verlassen. Das Abstellen/Parken von Autos oder LKWs hinter dem Flohmarktstand ist auf den Flohmärkten in der Kieler Innenstadt grundsätzlich nicht gestattet. \nFlohmarkt Kieler InnenstadtMehr über Flohmarkt und Märkte in KielErster Flohmarkt des Jahres an der Kieler HörnErster Flohmarkt in der Kieler Innenstadt in 2022\nVideo Flohmarkt in der Kieler Innenstadt rund um den Rathausplatz\n	\n		\n\n			\n			\n\n							\n					\n						Anstehende Veranstaltungen					\n				\n			\n			\n				\n			\n			\n	\n		\n		\n		\n		\n	\n\n\n	Hinweis\n							\n					Es sind keine anstehenden Veranstaltungen vorhanden.				\n					\n	\n\n					\n	\n\n\n\n\n\n\n		\n		Neu im Kiel-Blog\n		\n											\n					Bühnenaufbau Holstein Kiel Aufstiegsparty Rathausplatz Sonntagnachmittag\n									\n											\n					Holstein Kiel Bundesliga Aufstiegsparty am Holstein-Stadion nach Unentschieden gegen Düsseldorf\n									\n					\n\n		Aus dem Kiel-Lexikon\n            Rathmannsdorfer Schleuse\n            Schlossgarten Erlebnis- und Kinoareal\n            Falckensteiner Strand
URL:https://welovekiel.com/de/event/flohmarkt-kieler-innenstadt-04-06-2023/
LOCATION:Rathausplatz Kiel\, Rathausplatz\, Kiel\, 24103\, Deutschland
CATEGORIES:Flohmarkt,Kiel,Shopping
ATTACH;FMTTYPE=image/jpeg:https://welovekiel.com/wp-content/uploads/flohmarkt-kiel-asmus-bremer-platz2022.jpg
END:VEVENT
BEGIN:VEVENT
DTSTART;VALUE=DATE:20230617
DTEND;VALUE=DATE:20230626
DTSTAMP:20260425T002935
CREATED:20221229T143448Z
LAST-MODIFIED:20221229T143448Z
UID:10000253-1686960000-1687737599@welovekiel.com
SUMMARY:Kieler Woche 2023
DESCRIPTION:Kieler Woche 2023: Segelsport\, Sommerfest\, Schiffe und jede Menge Konzerte in der Landeshauptstadt Kiel in Schleswig-Holstein in der letzten vollen Juniwoche 2023. \nDie Kieler Woche ist eine jährlich stattfindende Segelregatta\, die seit Ende des 19. Jahrhunderts in Kiel auf der Kieler Förde ausgetragen wird. Sie gilt als eines der größten Segelsportereignisse der Welt. In den letzten Jahrzehnten entwickelte sich zudem ein Volksfest an den Kaimauern der Großsegler\, obwohl der Kern der Kieler Woche immer die Segelsportwettbewerbe geblieben sind. \nNeben den sportlichen Aspekten umfasst die Kieler Woche ein umfangreiches Programm mit über 2.000 Einzelveranstaltungen\, unter anderem Auftritte internationaler sowie regionaler Bands und Künstler\, die in rund 300 Konzerten auf über 15 Bühnen Live-Musik bieten. \nDaneben gibt es auf kleineren Bühnen Darbietungen zahlreicher lokaler Gruppen. Jedes Jahr besuchen über 3 Millionen Gäste die Kieler Woche\, unter anderem auch zahlreiche Marineeinheiten aus über 10 Nationen. \nAls maritimer Höhepunkt gilt die Windjammerparade (seit 1998 jährlich) am letzten Samstag der Festwoche\, an der mehr als 100 Groß- und Traditionssegler\, historische Dampfschiffe sowie Hunderte von Segelyachten\, Motorboote und Segelschiffe teilnehmen. \nBilder Kieler WocheVideos Kieler Woche\n	\n		\n\n			\n			\n\n							\n					\n						Anstehende Veranstaltungen					\n				\n			\n			\n				\n			\n			\n	\n		\n		\n		\n		\n	\n\n\n	Hinweis\n							\n					Es sind keine anstehenden Veranstaltungen vorhanden.				\n					\n	\n\n					\n	\n\n\n\n\n\n\n		\n		Neu im Kiel-Blog\n		\n											\n					Bühnenaufbau Holstein Kiel Aufstiegsparty Rathausplatz Sonntagnachmittag\n									\n											\n					Holstein Kiel Bundesliga Aufstiegsparty am Holstein-Stadion nach Unentschieden gegen Düsseldorf\n									\n					\n\n		Aus dem Kiel-Lexikon\n            Weihnachtsmarkt Kiel Bernhard-Minetti-Platz\n            Schleusenpark\n            Marinestützpunkt Kiel-Wik
URL:https://welovekiel.com/de/event/kieler-woche-2023/
LOCATION:Landeshauptstadt Kiel\, Fleethörn 9\, Kiel\, 24103\, Deutschland
CATEGORIES:Kiel,Kieler Woche,Kunst und Kultur
ATTACH;FMTTYPE=image/jpeg:https://welovekiel.com/wp-content/uploads/olympiahafen-schilksee-kieler-woche-2021-segelboote.jpg
END:VEVENT
END:VCALENDAR