BEGIN:VCALENDAR
VERSION:2.0
PRODID:-//We love Kiel - ECPv6.15.14//NONSGML v1.0//EN
CALSCALE:GREGORIAN
METHOD:PUBLISH
X-WR-CALNAME:We love Kiel
X-ORIGINAL-URL:https://welovekiel.com/de/
X-WR-CALDESC:Veranstaltungen für We love Kiel
REFRESH-INTERVAL;VALUE=DURATION:PT1H
X-Robots-Tag:noindex
X-PUBLISHED-TTL:PT1H
BEGIN:VTIMEZONE
TZID:Europe/Berlin
BEGIN:DAYLIGHT
TZOFFSETFROM:+0100
TZOFFSETTO:+0200
TZNAME:CEST
DTSTART:20250330T010000
END:DAYLIGHT
BEGIN:STANDARD
TZOFFSETFROM:+0200
TZOFFSETTO:+0100
TZNAME:CET
DTSTART:20251026T010000
END:STANDARD
BEGIN:DAYLIGHT
TZOFFSETFROM:+0100
TZOFFSETTO:+0200
TZNAME:CEST
DTSTART:20260329T010000
END:DAYLIGHT
BEGIN:STANDARD
TZOFFSETFROM:+0200
TZOFFSETTO:+0100
TZNAME:CET
DTSTART:20261025T010000
END:STANDARD
BEGIN:DAYLIGHT
TZOFFSETFROM:+0100
TZOFFSETTO:+0200
TZNAME:CEST
DTSTART:20270328T010000
END:DAYLIGHT
BEGIN:STANDARD
TZOFFSETFROM:+0200
TZOFFSETTO:+0100
TZNAME:CET
DTSTART:20271031T010000
END:STANDARD
END:VTIMEZONE
BEGIN:VEVENT
DTSTART;TZID=Europe/Berlin:20260426T080000
DTEND;TZID=Europe/Berlin:20260426T160000
DTSTAMP:20260426T032412
CREATED:20260425T173906Z
LAST-MODIFIED:20260425T173906Z
UID:10000659-1777190400-1777219200@welovekiel.com
SUMMARY:Flohmarkt Kieler Hörn 26.04.2026
DESCRIPTION:Flohmarkt Kieler Hörn und Querkai am Sonntag\, den 26. April 2026 ab 8 Uhr in der Kieler Innenstadt an der Hörn. \nIn den Monaten April bis Oktober veranstaltet die Landeshauptstadt Kiel mehrere Flohmärkte an der Hörn sowie in der Kieler Innenstadt rund um den Rathausplatz. Der Flohmarkt an der Kieler Hörn findet in 2026 an insgesamt drei Sonntagen statt. Hier an der Hörn lässt sich sicher das eine oder andere Schnäppchen finden beziehungsweise lassen sich nicht mehr benötigte Dinge zu Geld machen. \nDer Flohmarkt an der Kieler Hörn findet in 2026 an folgenden Sonntagen statt: \n\n26. April 2026\n19. Juli 2026\n04. Oktober 2026\n\nDie Landeshauptstadt Kiel erhebt keinen Eintritt für Besucher der Flohmärkte an der Hörn oder in der Kieler Innenstadt. Für Verkäufer beträgt die Standgebühr pauschal 5\,- Euro je angefangenen laufenden Meter. Die Gebühr ist vor Ort in bar zu entrichten und sollte möglichst passend bereitgehalten werden. \nFlohmarkt in Kiel an der HörnMehr über Flohmarkt und Märkte in KielBesuch der Kieler Weihnachtsmärkte 2023 Posted on: 1. Dezember 2023Statt Saturn kommt MediaMarkt in Kürze in den Sophienhof Posted on: 1. Mai 2023Weihnachtsmarkt Kiel 2022 am Montag eröffnet Posted on: 22. November 2022Erster Flohmarkt des Jahres an der Kieler Hörn Posted on: 24. April 2022Erster Flohmarkt in der Kieler Innenstadt in 2022 Posted on: 3. April 2022Holstenstraße: Deichmann-Filiale schließt im Januar und sorgt für weiteren Leerstand Posted on: 5. Januar 2022Galeria Karstadt Kaufhof schließt 62 von 172 Warenhäuser - Karstadt Kiel nicht betroffen Posted on: 22. Juni 2020Nach den Weihnachtseinkäufen einen Glühwein auf dem Kieler Weihnachtsmarkt Posted on: 23. Dezember 2019\nVideo Flohmarkt an der Kieler Hörn\n	\n		\n\n			\n			\n\n							\n					\n						Anstehende Veranstaltungen					\n				\n			\n			\n				\n											\n\n	\n	\n		\n			Apr.		\n		\n			26		\n	\n\n\n	\n		\n			\n\n				\n					\n		\n		08:00 - 16:00	\n	\n					\n	\n		Flohmarkt Kieler Hörn 26.04.2026	\n\n				\n\n				\n			\n		\n	\n\n\n											\n\n	\n	\n		\n			Juli		\n		\n			19		\n	\n\n\n	\n		\n			\n\n				\n					\n		\n		08:00 - 16:00	\n	\n					\n	\n		Flohmarkt Kieler Hörn 19.07.2026	\n\n				\n\n				\n			\n		\n	\n\n\n											\n\n	\n	\n		\n			Okt.		\n		\n			4		\n	\n\n\n	\n		\n			\n\n				\n					\n		\n		08:00 - 16:00	\n	\n					\n	\n		Flohmarkt Kieler Hörn 04.10.2026	\n\n				\n\n				\n			\n		\n	\n\n\n									\n\n				\n	\n		Kalender anzeigen	\n\n\n					\n	\n\n\n\n\n\n\n		\n		Neu im Kiel-Blog\n		\n											\n					Bühnenaufbau Holstein Kiel Aufstiegsparty Rathausplatz Sonntagnachmittag\n									\n											\n					Holstein Kiel Bundesliga Aufstiegsparty am Holstein-Stadion nach Unentschieden gegen Düsseldorf\n									\n					\n\n		Aus dem Kiel-Lexikon\n            Schilksee\n            Leuchtturm Bülk\n            Blücherplatz
URL:https://welovekiel.com/de/event/flohmarkt-kieler-hoern-26-4-2026/
LOCATION:Kieler Hörn\, Hörn\, Kiel\, 24103\, Deutschland
CATEGORIES:Flohmarkt,Kiel,Shopping
ATTACH;FMTTYPE=image/jpeg:https://welovekiel.com/wp-content/uploads/flohmarkt-kieler-hoern.jpg
END:VEVENT
END:VCALENDAR