BEGIN:VCALENDAR
VERSION:2.0
PRODID:-//We love Kiel - ECPv6.15.14//NONSGML v1.0//EN
CALSCALE:GREGORIAN
METHOD:PUBLISH
X-ORIGINAL-URL:https://welovekiel.com/de/
X-WR-CALDESC:Veranstaltungen für We love Kiel
REFRESH-INTERVAL;VALUE=DURATION:PT1H
X-Robots-Tag:noindex
X-PUBLISHED-TTL:PT1H
BEGIN:VTIMEZONE
TZID:Europe/Berlin
BEGIN:DAYLIGHT
TZOFFSETFROM:+0100
TZOFFSETTO:+0200
TZNAME:CEST
DTSTART:20210328T010000
END:DAYLIGHT
BEGIN:STANDARD
TZOFFSETFROM:+0200
TZOFFSETTO:+0100
TZNAME:CET
DTSTART:20211031T010000
END:STANDARD
BEGIN:DAYLIGHT
TZOFFSETFROM:+0100
TZOFFSETTO:+0200
TZNAME:CEST
DTSTART:20220327T010000
END:DAYLIGHT
BEGIN:STANDARD
TZOFFSETFROM:+0200
TZOFFSETTO:+0100
TZNAME:CET
DTSTART:20221030T010000
END:STANDARD
BEGIN:DAYLIGHT
TZOFFSETFROM:+0100
TZOFFSETTO:+0200
TZNAME:CEST
DTSTART:20230326T010000
END:DAYLIGHT
BEGIN:STANDARD
TZOFFSETFROM:+0200
TZOFFSETTO:+0100
TZNAME:CET
DTSTART:20231029T010000
END:STANDARD
BEGIN:DAYLIGHT
TZOFFSETFROM:+0100
TZOFFSETTO:+0200
TZNAME:CEST
DTSTART:20240331T010000
END:DAYLIGHT
BEGIN:STANDARD
TZOFFSETFROM:+0200
TZOFFSETTO:+0100
TZNAME:CET
DTSTART:20241027T010000
END:STANDARD
BEGIN:DAYLIGHT
TZOFFSETFROM:+0100
TZOFFSETTO:+0200
TZNAME:CEST
DTSTART:20250330T010000
END:DAYLIGHT
BEGIN:STANDARD
TZOFFSETFROM:+0200
TZOFFSETTO:+0100
TZNAME:CET
DTSTART:20251026T010000
END:STANDARD
END:VTIMEZONE
BEGIN:VEVENT
DTSTART;TZID=Europe/Berlin:20240516T160000
DTEND;TZID=Europe/Berlin:20240516T190000
DTSTAMP:20260424T231339
CREATED:20240516T115804Z
LAST-MODIFIED:20240516T115804Z
UID:10000528-1715875200-1715886000@welovekiel.com
SUMMARY:Holstein Kiel Autogrammstunde im Citti-Park Kiel 16.5.2024
DESCRIPTION:Autogrammstunde mit der Mannschaft von Holstein Kiel im Citti-Park Kiel am 16.5.2024 mit großem Fanshop-Verkauf. \nNach dem historischen Aufstieg in die Bundesliga können sich Holstein Kiel Fans auf Autogramme der Spieler freuen: Der Citti-Park in Kiel begrüßt die Mannschaft von Holstein Kiel am 16. Mai 2023 zur Autogrammstunde. Los geht es ab 16.00 Uhr\, dann steht die gesamte Mannschaft von Holstein Kiel im Citti-Park für Autogramme bereit. Also komm vorbei in den Citti-Park am Donnerstag\, den 16. Mai\, wenn der komplette Kader von Holstein Kiel für Autogrammwünsche auf dich wartet. \nHolstein Kiel Autogrammstunde Citti-Park Kiel 16.5.2024 Hinweisschild \nHolstein Kiel Autogrammstunde und großer Fanshop-Verkauf\nNatürlich kannst du vor Ort auch Fan-Artikel von Holstein Kiel kaufen. Am Fan-Stand wird es unter anderem Trikots\, Schals und Caps der Störche geben. \n\nDies könnte dich auch interessierenBühnenaufbau Holstein Kiel Aufstiegsparty Rathausplatz SonntagnachmittagHolstein Kiel Bundesliga Aufstiegsparty am Holstein-Stadion nach Unentschieden gegen DüsseldorfHolstein Kiel Fans: Fanmarsch von Forstbaumschule zum Holstein-Stadion vor letztem Heimspiel gegen DüsseldorfFin Bartels Abschied: Lasershow & Drohnenshow über dem Holstein-StadionAutogrammstunde mit den Mannschaften von Holstein Kiel und THW Kiel im Citti-ParkHolstein-Stadion: Zuschauerbegrenzung in Stadien und HallenHolstein Kiel - 1. FC Köln Relegationsspiel Kieler Fans vor dem Holstein-StadionKieler Fans vor dem Holsteinstadion beim Spiel Kiel - Darmstadt am 23.05.2021\nHolstein Kiel Video\n	\n		\n\n			\n			\n\n							\n					\n						Anstehende Veranstaltungen					\n				\n			\n			\n				\n											\n\n	\n	\n		\n			Apr.		\n		\n			26		\n	\n\n\n	\n		\n			\n\n				\n					\n		\n		08:30 - 16:00	\n	\n					\n	\n		Flohmarkt famila Kiel-Neumeimersdorf 26.4.2026	\n\n				\n\n				\n			\n		\n	\n\n\n											\n\n	\n	\n		\n			Mai		\n		\n			3		\n	\n\n\n	\n		\n			\n\n				\n					\n		\n		08:00 - 16:00	\n	\n					\n	\n		Flohmarkt Kiel Innenstadt Holstenplatz bis Rathausplatz 03.05.2026	\n\n				\n\n				\n			\n		\n	\n\n\n											\n\n	\n	\n		\n			Mai		\n		\n			10		\n	\n\n\n	\n		\n			\n\n				\n					\n		\n		06:00 - 16:00	\n	\n					\n	\n		Flohmarkt Kaufland Kiel-Mettenhof 10.05.2026	\n\n				\n\n				\n			\n		\n	\n\n\n											\n\n	\n	\n		\n			Mai		\n		\n			14		\n	\n\n\n	\n		\n			\n\n				\n					\n		\n		08:00 - 16:00	\n	\n					\n	\n		Flohmarkt Kaufland Schwentinental / Raisdorf 14.5.2026	\n\n				\n\n				\n			\n		\n	\n\n\n											\n\n	\n	\n		\n			Mai		\n		\n			17		\n	\n\n\n	\n		\n			\n\n				\n					\n		\n		06:00 - 16:00	\n	\n					\n	\n		Flohmarkt famila Kiel-Wik 17.5.2026	\n\n				\n\n				\n			\n		\n	\n\n\n											\n\n	\n	\n		\n			Mai		\n		\n			17		\n	\n\n\n	\n		\n			\n\n				\n					\n		\n		08:00 - 16:00	\n	\n					\n	\n		Flohmarkt Citti-Park Kiel 17.5.2026	\n\n				\n\n				\n			\n		\n	\n\n\n											\n\n	\n	\n		\n			Mai		\n		\n			31		\n	\n\n\n	\n		\n			\n\n				\n					\n		\n		08:30 - 16:00	\n	\n					\n	\n		Flohmarkt famila Kiel-Neumeimersdorf 31.5.2026	\n\n				\n\n				\n			\n		\n	\n\n\n											\n\n	\n	\n		\n			Juni		\n		\n			7		\n	\n\n\n	\n		\n			\n\n				\n					\n		\n		08:00 - 16:00	\n	\n					\n	\n		Flohmarkt Kiel Innenstadt Holstenplatz bis Rathausplatz 07.06.2026	\n\n				\n\n				\n			\n		\n	\n\n\n											\n\n	\n	\n		\n			Juni		\n		\n			14		\n	\n\n\n	\n		\n			\n\n				\n					\n		\n		06:00 - 16:00	\n	\n					\n	\n		Flohmarkt Kaufland Kiel-Mettenhof 14.06.2026	\n\n				\n\n				\n			\n		\n	\n\n\n											\n\n	\n	\n		\n			Juni		\n		\n			14		\n	\n\n\n	\n		\n			\n\n				\n					\n		\n		08:00 - 16:00	\n	\n					\n	\n		Flohmarkt Citti-Park Kiel 14.6.2026	\n\n				\n\n				\n			\n		\n	\n\n\n									\n\n				\n	\n		Kalender anzeigen	\n\n\n					\n	\n\n\n\n\n\n\n		\n		Neu im Kiel-Blog\n		\n											\n					Bühnenaufbau Holstein Kiel Aufstiegsparty Rathausplatz Sonntagnachmittag\n									\n											\n					Holstein Kiel Bundesliga Aufstiegsparty am Holstein-Stadion nach Unentschieden gegen Düsseldorf\n									\n					\n\n		Aus dem Kiel-Lexikon\n            Werftarbeiter Skulptur\n            Schilksee Strand\n            Weihnachtsmarkt Kiel Asmus-Bremer-Platz\n    \n\nChristian GewieseHallo\, ich bin Christian und lebe in Kiel.
URL:https://welovekiel.com/de/event/holstein-kiel-autogrammstunde-citti-park-kiel-16-5-2024/
LOCATION:Citti-Park Kiel\, Mühlendamm 1\, Kiel\, 24113\, Deutschland
CATEGORIES:Fußball,Hassee,Kiel,Sport
ATTACH;FMTTYPE=image/jpeg:https://welovekiel.com/wp-content/uploads/citti-park-kiel-holstein-kiel-fahnen-nach-aufstieg.jpg
END:VEVENT
BEGIN:VEVENT
DTSTART;TZID=Europe/Berlin:20230324T163000
DTEND;TZID=Europe/Berlin:20230324T183000
DTSTAMP:20260424T231339
CREATED:20230309T080710Z
LAST-MODIFIED:20230309T080710Z
UID:10000350-1679675400-1679682600@welovekiel.com
SUMMARY:Autogrammstunde mit der Mannschaft des THW Kiel im Citti-Park Kiel 24.3.2023
DESCRIPTION:Autogrammstunde mit der Mannschaft des THW Kiel im Citti-Park Kiel am 24.3.2023 am Freitagnachmittag. \nNach längerer Pause ist es endlich wieder soweit: Der Citti Park in Kiel begrüßt die Spieler des THW Kiel am 24. März 2023 zur Autogrammstunde. Los geht es ab 16.30 Uhr\, dann steht die gesamte Mannschaft des THW Kiel im Citti-Park für Autogramme bereit. Also komm vorbei in den Citti-Park am Freitagnachmittag\, wenn der komplette Kader vom THW Kiel für Autogrammwünsche auf dich wartet. \nNatürlich kannst du vor Ort auch Fan-Artikel des THW Kiel kaufen. Am Fan-Stand wird es unter anderem Trikots\, Schals und Caps der Zebras geben. \nDoppel-Autogrammstunde am 24.3.2023 mit Holstein Kiel und THW Kiel im Citti-Park\nDas wird wirklich ein besonderer Tag am Freitagnachmittag. denn nicht nur die Mannschaft von THW Kiel wird in den Citti-Park kommen. Bereits ab 14.00 Uhr wird auch noch die komplette Mannschaft von Holstein Kiel anwesend sein zur Autogrammstunde. Selbstverständlich kannst du dann auch Fanartikel der Störche an einem Stand kaufen. \nCitti-Park Kiel Shopping Center \nDies könnte dich auch interessierenAutogrammstunde mit den Mannschaften von Holstein Kiel und THW Kiel im Citti-ParkHolstein-Stadion: Zuschauerbegrenzung in Stadien und HallenAus Sparkassen-Arena Kiel wird Wunderino-Arena\nTHW Kiel Video\n	\n		\n\n			\n			\n\n							\n					\n						Anstehende Veranstaltungen					\n				\n			\n			\n				\n											\n\n	\n	\n		\n			Apr.		\n		\n			26		\n	\n\n\n	\n		\n			\n\n				\n					\n		\n		08:30 - 16:00	\n	\n					\n	\n		Flohmarkt famila Kiel-Neumeimersdorf 26.4.2026	\n\n				\n\n				\n			\n		\n	\n\n\n											\n\n	\n	\n		\n			Mai		\n		\n			3		\n	\n\n\n	\n		\n			\n\n				\n					\n		\n		08:00 - 16:00	\n	\n					\n	\n		Flohmarkt Kiel Innenstadt Holstenplatz bis Rathausplatz 03.05.2026	\n\n				\n\n				\n			\n		\n	\n\n\n											\n\n	\n	\n		\n			Mai		\n		\n			10		\n	\n\n\n	\n		\n			\n\n				\n					\n		\n		06:00 - 16:00	\n	\n					\n	\n		Flohmarkt Kaufland Kiel-Mettenhof 10.05.2026	\n\n				\n\n				\n			\n		\n	\n\n\n											\n\n	\n	\n		\n			Mai		\n		\n			14		\n	\n\n\n	\n		\n			\n\n				\n					\n		\n		08:00 - 16:00	\n	\n					\n	\n		Flohmarkt Kaufland Schwentinental / Raisdorf 14.5.2026	\n\n				\n\n				\n			\n		\n	\n\n\n											\n\n	\n	\n		\n			Mai		\n		\n			17		\n	\n\n\n	\n		\n			\n\n				\n					\n		\n		06:00 - 16:00	\n	\n					\n	\n		Flohmarkt famila Kiel-Wik 17.5.2026	\n\n				\n\n				\n			\n		\n	\n\n\n											\n\n	\n	\n		\n			Mai		\n		\n			17		\n	\n\n\n	\n		\n			\n\n				\n					\n		\n		08:00 - 16:00	\n	\n					\n	\n		Flohmarkt Citti-Park Kiel 17.5.2026	\n\n				\n\n				\n			\n		\n	\n\n\n											\n\n	\n	\n		\n			Mai		\n		\n			31		\n	\n\n\n	\n		\n			\n\n				\n					\n		\n		08:30 - 16:00	\n	\n					\n	\n		Flohmarkt famila Kiel-Neumeimersdorf 31.5.2026	\n\n				\n\n				\n			\n		\n	\n\n\n											\n\n	\n	\n		\n			Juni		\n		\n			7		\n	\n\n\n	\n		\n			\n\n				\n					\n		\n		08:00 - 16:00	\n	\n					\n	\n		Flohmarkt Kiel Innenstadt Holstenplatz bis Rathausplatz 07.06.2026	\n\n				\n\n				\n			\n		\n	\n\n\n											\n\n	\n	\n		\n			Juni		\n		\n			14		\n	\n\n\n	\n		\n			\n\n				\n					\n		\n		06:00 - 16:00	\n	\n					\n	\n		Flohmarkt Kaufland Kiel-Mettenhof 14.06.2026	\n\n				\n\n				\n			\n		\n	\n\n\n											\n\n	\n	\n		\n			Juni		\n		\n			14		\n	\n\n\n	\n		\n			\n\n				\n					\n		\n		08:00 - 16:00	\n	\n					\n	\n		Flohmarkt Citti-Park Kiel 14.6.2026	\n\n				\n\n				\n			\n		\n	\n\n\n									\n\n				\n	\n		Kalender anzeigen	\n\n\n					\n	\n\n\n\n\n\n\n		\n		Neu im Kiel-Blog\n		\n											\n					Bühnenaufbau Holstein Kiel Aufstiegsparty Rathausplatz Sonntagnachmittag\n									\n											\n					Holstein Kiel Bundesliga Aufstiegsparty am Holstein-Stadion nach Unentschieden gegen Düsseldorf\n									\n					\n\n		Aus dem Kiel-Lexikon\n            Altstadt\n            Schlossgarten\n            Stadtteile
URL:https://welovekiel.com/de/event/autogrammstunde-thw-kiel-im-citti-park-kiel-24-3-2023/
LOCATION:Citti-Park Kiel\, Mühlendamm 1\, Kiel\, 24113\, Deutschland
CATEGORIES:Handball,Hassee,Kiel,Sport
ATTACH;FMTTYPE=image/jpeg:https://welovekiel.com/wp-content/uploads/citti-park-kiel-rolltreppe.jpg
END:VEVENT
BEGIN:VEVENT
DTSTART;TZID=Europe/Berlin:20230324T140000
DTEND;TZID=Europe/Berlin:20230324T160000
DTSTAMP:20260424T231340
CREATED:20230309T075009Z
LAST-MODIFIED:20230309T075009Z
UID:10000349-1679666400-1679673600@welovekiel.com
SUMMARY:Autogrammstunde mit der Mannschaft von Holstein Kiel im Citti-Park Kiel 24.3.2023
DESCRIPTION:Autogrammstunde mit der Mannschaft von Holstein Kiel im Citti-Park Kiel am 24.3.2023 am Freitagnachmittag. \nNach längerer Pause ist es endlich wieder soweit: Der Citti Park in Kiel begrüßt die Spieler von Holstein Kiel am 24. März 2023 zur Autogrammstunde. Los geht es ab 14.00 Uhr\, dann steht die gesamte Mannschaft von Holstein Kiel im Citti-Park für Autogramme bereit. Also komm vorbei in den Citti-Park am Freitagnachmittag\, wenn der komplette Kader von Holstein Kiel für Autogrammwünsche auf dich wartet. \nNatürlich kannst du vor Ort auch Fan-Artikel von Holstein Kiel kaufen. Am Fan-Stand wird es unter anderem Trikots\, Schals und Caps der Störche geben. \nDoppel-Autogrammstunde am 24.3.2023 mit Holstein Kiel und THW Kiel im Citti-Park\nDas wird wirklich ein besonderer Tag am Freitagnachmittag. denn nicht nur die Mannschaft von Holstein Kiel wird in den Citti-Park kommen. Ab 16.30 Uhr wird auch noch die komplette Mannschaft des THW Kiel anwesend sein zur Autogrammstunde. Selbstverständlich kannst du dann auch Fanartikel der Zebras an einem Stand kaufen. \nCitti-Park Kiel Shopping Center \nDies könnte dich auch interessierenBühnenaufbau Holstein Kiel Aufstiegsparty Rathausplatz SonntagnachmittagHolstein Kiel Bundesliga Aufstiegsparty am Holstein-Stadion nach Unentschieden gegen DüsseldorfHolstein Kiel Fans: Fanmarsch von Forstbaumschule zum Holstein-Stadion vor letztem Heimspiel gegen DüsseldorfFin Bartels Abschied: Lasershow & Drohnenshow über dem Holstein-StadionAutogrammstunde mit den Mannschaften von Holstein Kiel und THW Kiel im Citti-ParkHolstein-Stadion: Zuschauerbegrenzung in Stadien und HallenHolstein Kiel - 1. FC Köln Relegationsspiel Kieler Fans vor dem Holstein-StadionKieler Fans vor dem Holsteinstadion beim Spiel Kiel - Darmstadt am 23.05.2021\nHolstein Kiel Video\n	\n		\n\n			\n			\n\n							\n					\n						Anstehende Veranstaltungen					\n				\n			\n			\n				\n											\n\n	\n	\n		\n			Apr.		\n		\n			26		\n	\n\n\n	\n		\n			\n\n				\n					\n		\n		08:30 - 16:00	\n	\n					\n	\n		Flohmarkt famila Kiel-Neumeimersdorf 26.4.2026	\n\n				\n\n				\n			\n		\n	\n\n\n											\n\n	\n	\n		\n			Mai		\n		\n			3		\n	\n\n\n	\n		\n			\n\n				\n					\n		\n		08:00 - 16:00	\n	\n					\n	\n		Flohmarkt Kiel Innenstadt Holstenplatz bis Rathausplatz 03.05.2026	\n\n				\n\n				\n			\n		\n	\n\n\n											\n\n	\n	\n		\n			Mai		\n		\n			10		\n	\n\n\n	\n		\n			\n\n				\n					\n		\n		06:00 - 16:00	\n	\n					\n	\n		Flohmarkt Kaufland Kiel-Mettenhof 10.05.2026	\n\n				\n\n				\n			\n		\n	\n\n\n											\n\n	\n	\n		\n			Mai		\n		\n			14		\n	\n\n\n	\n		\n			\n\n				\n					\n		\n		08:00 - 16:00	\n	\n					\n	\n		Flohmarkt Kaufland Schwentinental / Raisdorf 14.5.2026	\n\n				\n\n				\n			\n		\n	\n\n\n											\n\n	\n	\n		\n			Mai		\n		\n			17		\n	\n\n\n	\n		\n			\n\n				\n					\n		\n		06:00 - 16:00	\n	\n					\n	\n		Flohmarkt famila Kiel-Wik 17.5.2026	\n\n				\n\n				\n			\n		\n	\n\n\n											\n\n	\n	\n		\n			Mai		\n		\n			17		\n	\n\n\n	\n		\n			\n\n				\n					\n		\n		08:00 - 16:00	\n	\n					\n	\n		Flohmarkt Citti-Park Kiel 17.5.2026	\n\n				\n\n				\n			\n		\n	\n\n\n											\n\n	\n	\n		\n			Mai		\n		\n			31		\n	\n\n\n	\n		\n			\n\n				\n					\n		\n		08:30 - 16:00	\n	\n					\n	\n		Flohmarkt famila Kiel-Neumeimersdorf 31.5.2026	\n\n				\n\n				\n			\n		\n	\n\n\n											\n\n	\n	\n		\n			Juni		\n		\n			7		\n	\n\n\n	\n		\n			\n\n				\n					\n		\n		08:00 - 16:00	\n	\n					\n	\n		Flohmarkt Kiel Innenstadt Holstenplatz bis Rathausplatz 07.06.2026	\n\n				\n\n				\n			\n		\n	\n\n\n											\n\n	\n	\n		\n			Juni		\n		\n			14		\n	\n\n\n	\n		\n			\n\n				\n					\n		\n		06:00 - 16:00	\n	\n					\n	\n		Flohmarkt Kaufland Kiel-Mettenhof 14.06.2026	\n\n				\n\n				\n			\n		\n	\n\n\n											\n\n	\n	\n		\n			Juni		\n		\n			14		\n	\n\n\n	\n		\n			\n\n				\n					\n		\n		08:00 - 16:00	\n	\n					\n	\n		Flohmarkt Citti-Park Kiel 14.6.2026	\n\n				\n\n				\n			\n		\n	\n\n\n									\n\n				\n	\n		Kalender anzeigen	\n\n\n					\n	\n\n\n\n\n\n\n		\n		Neu im Kiel-Blog\n		\n											\n					Bühnenaufbau Holstein Kiel Aufstiegsparty Rathausplatz Sonntagnachmittag\n									\n											\n					Holstein Kiel Bundesliga Aufstiegsparty am Holstein-Stadion nach Unentschieden gegen Düsseldorf\n									\n					\n\n		Aus dem Kiel-Lexikon\n            Stadtteile\n            Falckensteiner Strand\n            Wind-Licht-Objekt
URL:https://welovekiel.com/de/event/autogrammstunde-holstein-kiel-im-citti-park-kiel-24-3-2023/
LOCATION:Citti-Park Kiel\, Mühlendamm 1\, Kiel\, 24113\, Deutschland
CATEGORIES:Fußball,Hassee,Kiel,Sport
ATTACH;FMTTYPE=image/jpeg:https://welovekiel.com/wp-content/uploads/citti-park-kiel-rolltreppe.jpg
END:VEVENT
BEGIN:VEVENT
DTSTART;TZID=Europe/Berlin:20221106T130000
DTEND;TZID=Europe/Berlin:20221106T180000
DTSTAMP:20260424T231340
CREATED:20221027T105023Z
LAST-MODIFIED:20221027T105023Z
UID:10000168-1667739600-1667757600@welovekiel.com
SUMMARY:Verkaufsoffener Sonntag Citti-Park Kiel 06.11.2022
DESCRIPTION:Verkaufsoffener Sonntag im Citti-Park Kiel am 06. November 2022 sowie in der Kieler Innenstadt. \nAm Sonntag\, den 06.11.2021 kann im Citti-Park Kiel in Hassee außerhalb der regulären Öffnungszeiten eingekauft werden. Die Geschäfte im Citti-Park haben von 13.00 bis 18.00 Uhr geöffnet. Die Gastronomie im Citti-Park Kiel öffnet an diesem Sonntag ebenfalls\, und zwar bereits um 12.00 Uhr. \nAuch in der Kieler Innenstadt und unter anderem bei Möbel Höffner und Famila in der Wik haben die Geschäfte am Sonntag\, den 6. November von 13 bis 18 Uhr geöffnet. Darüber hinaus wird die KVG an diesem Sonntag ein kostenloses OPNV-Angebot anbieten. \nCitti-Park Kiel\n				\n					\n					\n					\n				Loading the next set of gallery items...Load MoreMehr über Shopping und Märkte in KielBauernprotest in Kiel: Landwirte demonstrieren mit Trecker-Konvoi am 8.1.2024 Posted on: 8. Januar 2024Besuch der Kieler Weihnachtsmärkte 2023 Posted on: 1. Dezember 2023Statt Saturn kommt MediaMarkt in Kürze in den Sophienhof Posted on: 1. Mai 2023Autogrammstunde mit den Mannschaften von Holstein Kiel und THW Kiel im Citti-Park Posted on: 9. März 2023Tourismus in Kiel: Gästeankünfte und Übernachtungen in 2022 wieder auf Niveau von 2019 Posted on: 26. Februar 2023Terminänderung: X-Mas Ride Kiel 2022 wetterbedingt verschoben Posted on: 16. Dezember 2022X-Mas Ride Kiel 2022 Weihnachtsmänner auf Motorrädern am 17.12.2022 Posted on: 9. Dezember 2022Weihnachtsmarkt Kiel 2022 am Montag eröffnet Posted on: 22. November 2022\nVideo Citti-Park Kiel\n	\n		\n\n			\n			\n\n							\n					\n						Anstehende Veranstaltungen					\n				\n			\n			\n				\n											\n\n	\n	\n		\n			Apr.		\n		\n			26		\n	\n\n\n	\n		\n			\n\n				\n					\n		\n		08:30 - 16:00	\n	\n					\n	\n		Flohmarkt famila Kiel-Neumeimersdorf 26.4.2026	\n\n				\n\n				\n			\n		\n	\n\n\n											\n\n	\n	\n		\n			Mai		\n		\n			3		\n	\n\n\n	\n		\n			\n\n				\n					\n		\n		08:00 - 16:00	\n	\n					\n	\n		Flohmarkt Kiel Innenstadt Holstenplatz bis Rathausplatz 03.05.2026	\n\n				\n\n				\n			\n		\n	\n\n\n											\n\n	\n	\n		\n			Mai		\n		\n			10		\n	\n\n\n	\n		\n			\n\n				\n					\n		\n		06:00 - 16:00	\n	\n					\n	\n		Flohmarkt Kaufland Kiel-Mettenhof 10.05.2026	\n\n				\n\n				\n			\n		\n	\n\n\n											\n\n	\n	\n		\n			Mai		\n		\n			14		\n	\n\n\n	\n		\n			\n\n				\n					\n		\n		08:00 - 16:00	\n	\n					\n	\n		Flohmarkt Kaufland Schwentinental / Raisdorf 14.5.2026	\n\n				\n\n				\n			\n		\n	\n\n\n											\n\n	\n	\n		\n			Mai		\n		\n			17		\n	\n\n\n	\n		\n			\n\n				\n					\n		\n		06:00 - 16:00	\n	\n					\n	\n		Flohmarkt famila Kiel-Wik 17.5.2026	\n\n				\n\n				\n			\n		\n	\n\n\n											\n\n	\n	\n		\n			Mai		\n		\n			17		\n	\n\n\n	\n		\n			\n\n				\n					\n		\n		08:00 - 16:00	\n	\n					\n	\n		Flohmarkt Citti-Park Kiel 17.5.2026	\n\n				\n\n				\n			\n		\n	\n\n\n											\n\n	\n	\n		\n			Mai		\n		\n			31		\n	\n\n\n	\n		\n			\n\n				\n					\n		\n		08:30 - 16:00	\n	\n					\n	\n		Flohmarkt famila Kiel-Neumeimersdorf 31.5.2026	\n\n				\n\n				\n			\n		\n	\n\n\n											\n\n	\n	\n		\n			Juni		\n		\n			7		\n	\n\n\n	\n		\n			\n\n				\n					\n		\n		08:00 - 16:00	\n	\n					\n	\n		Flohmarkt Kiel Innenstadt Holstenplatz bis Rathausplatz 07.06.2026	\n\n				\n\n				\n			\n		\n	\n\n\n											\n\n	\n	\n		\n			Juni		\n		\n			14		\n	\n\n\n	\n		\n			\n\n				\n					\n		\n		06:00 - 16:00	\n	\n					\n	\n		Flohmarkt Kaufland Kiel-Mettenhof 14.06.2026	\n\n				\n\n				\n			\n		\n	\n\n\n											\n\n	\n	\n		\n			Juni		\n		\n			14		\n	\n\n\n	\n		\n			\n\n				\n					\n		\n		08:00 - 16:00	\n	\n					\n	\n		Flohmarkt Citti-Park Kiel 14.6.2026	\n\n				\n\n				\n			\n		\n	\n\n\n									\n\n				\n	\n		Kalender anzeigen	\n\n\n					\n	\n\n\n\n\n\n\n		\n		Neu im Kiel-Blog\n		\n											\n					Bühnenaufbau Holstein Kiel Aufstiegsparty Rathausplatz Sonntagnachmittag\n									\n											\n					Holstein Kiel Bundesliga Aufstiegsparty am Holstein-Stadion nach Unentschieden gegen Düsseldorf\n									\n					\n\n		Aus dem Kiel-Lexikon\n            Schleusen-Aussichtsplattform Kiel-Wik\n            Schilksee Steilküste\n            Kiellinie
URL:https://welovekiel.com/de/event/verkaufsoffener-sonntag-citti-park-kiel-06-11-2022/
LOCATION:Citti-Park Kiel\, Mühlendamm 1\, Kiel\, 24113\, Deutschland
CATEGORIES:Hassee,Kiel,Shopping
ATTACH;FMTTYPE=image/jpeg:https://welovekiel.com/wp-content/uploads/citti-park-kiel-rolltreppe.jpg
END:VEVENT
END:VCALENDAR